{"text_format":"1","workbook":"xlsx","n_sheets":11,"sheets":["ReadMe","Base Values","HVI & Yield Entry","Premiums & Discounts","Yield & Return","Mic","Str","Staple Lookup","G&S","Uni","Ext"],"not_rendered":{"charts":0,"images":1,"macros":1,"external_links":1,"defined_names":2,"comments":0,"pivot_tables":0},"unopened":[],"bounds":{"document_bytes":16777216,"sheet_cells":100000,"rows_first":2000,"rows_last":500,"rows_between":2000,"halvings":0,"cell_chars":16384,"cell_head_chars":4096},"cells_cut":0,"cells_raw":0,"read":"whole","date_system":"1900"}

{"sheet":"ReadMe","index":0,"n_rows":35,"n_cols":1,"rows_kept":35,"cut":false,"hidden":false,"merged":[]}
[]
[]
[]
["Two data entry sheets (Base Values and HVI & Yield Entry)"]
["Two output sheets (Premiums & Discounts and Yield & Return)"]
[]
["Step 1 - Base Values sheet"]
["Check/enter cells of base data for the loan value, seed value, costs, and turnout."]
["These values are applied to Yield & Return calculations."]
[]
["Step 2 - HVI & Yield Entry sheet"]
["HVI Option 1 - Import"]
["The Loan Calculator can import data from sources with known formatting (i.e., USDA, Texas Tech FBRI, and Cotton Incorporated).  After importing, the HVI data are automatically fed into the Premiums & Discounts sheet."]
["If the import option is not working for one of the known formats, please email us (address below) so we can de-bug it for you."]
["HVI Option 2 - Paste HVI data"]
["As in previous versions, HVI data can also be pasted into columns on the HVI Data sheet.  After pasting, click send button to push HVI data through to the Premiums & Discounts sheet."]
["Paste Extraneous Matter and Yield & Turnout"]
["Extraneous matter readings are assumed to be zero.  Non-zero values have to be entered manually.  Press one of the send buttons to push data to Premiums & Discounts sheet."]
[]
["Step 3 - Optional Yield & Return Data"]
["Yield & Turnout data have to be entered manually (columns N & O on HVI & Yield Entry sheet)"]
["Press the send button to feed these values to the Yield & Return sheet."]
[]
["Sorting buttons on all sheets"]
["Sort a = sort ascending (smallest values at top)"]
["Sort d = sort descending (largest values at top)"]
[]
["For more detailed instructions, please visit Cotton Incorporated's website."]
["link to Loan Calculator page"]
[]
["Source Premium & Discount Values"]
["Premium and Discount values are updated each year from the USDA."]
["link to USDA source tables"]
[]
["Please email any questions, suggestions or issues to Jon Devine jdevine@cottoninc.com"]

{"sheet":"Base Values","index":1,"n_rows":14,"n_cols":3,"rows_kept":14,"cut":false,"hidden":false,"merged":[]}
["Enter Base Values"]
[]
[null,"Base Values","Value Units"]
["Study/Test Title","2024/25 Sample Loan Values","n/a"]
[]
["Base Quality Price (41 Color, 4 Leaf, 34 Staple)",52,"cents/lb"]
[]
["Cottonseed Value (USD/ton)",185,"USD/ton"]
[]
["Picking/Stripping & Moduling Cost per Cwt of Seed Cotton",3.2,"USD/Cwt"]
[]
["Ginning Cost per Pound of Lint",0.12,"USD/lb"]
[]
["Pounds of Seed per Pound of Lint",1.4119999999999999,"lb of seed per lb of lint"]

{"sheet":"HVI & Yield Entry","index":2,"n_rows":34,"n_cols":15,"rows_kept":34,"cut":false,"hidden":false,"merged":[[4,9,4,12]]}
["Enter HVI Data"]
["HVI data can either be imported or pasted"]
[]
["Import HVI Data"]
["HVI data from sources/labs with known formatting can be",null,null,null,null,null,null,null,null,"Extraneous Matter (blanks treated as 0)"]
["imported with the buttons below.  After you locate the file, the",null,null,null,null,null,null,null,null,"Bark",null,null,null,"Lint Yield","Turnout"]
["data will appear here and on the Premiums & Discount sheet.",null,"Sample Name/Code","Color","Leaf","Mic","Length","Strength","Uniformity","TX/NM/OK/KS","Prep","Other","Plastic","(lbs acre)","(%)"]
[]
[]
[]
[]
[]
[]
[]
[]
[]
[]
["Paste HVI Data"]
["HVI data can also be pasted in.  After pasting data,"]
["hit the button below and the columns will be"]
["fed into the Premiums & Discounts sheet."]
[]
[]
[]
[]
["Extraneous Matter"]
["These data have to pasted in.  Column C (Sample Name/Code)"]
["can be sorted to help with data entry.  Pushing \"Send HVI Data ...\" "]
["buttons (A29 or D1) will fill in values on Premiums & Discounts sheet."]
[]
["Yield & Turnout"]
["These data have to pasted in.  Column C (Sample Name/Code)"]
["can be sorted to help with data entry.  Pushing \"Send Yield & Turnout ...\" "]
["button (N1) will fill in values on Yield & Return sheet."]

{"sheet":"Premiums & Discounts","index":3,"n_rows":49,"n_cols":34,"rows_kept":49,"cut":false,"hidden":false,"merged":[[4,7,4,10],[4,13,4,17],[5,22,5,25]]}
["Premiums & Discounts"]
["Uses HVI data from HVI & Yield Entry sheet"]
[]
[]
[null,null,null,null,null,null,null,"Extraneous Matter (blanks treated as 0)",null,null,null,null,null,"Premiums & Discounts",null,null,null,null,null,"Net ","Loan",null,"These columns break out the discount for extraneous matter by type",null,null,null,null,null,null,null,null,null,"Mic Premium Eligibility"]
[null,null,null,null,null,null,null,"Bark",null,null,null,null,null,"Grade & ",null,null,"Ext",null,null,"Premium","Value",null,"Extraneous Matter Breakout",null,null,null,null,null,null,null,null,null,"Micronaire only eligible for certain windows of color/leaf"]
["Sample Name/Code","Color","Leaf","Mic","Length","Strength","Uniformity","TX/NM/OK/KS","Prep","Other","Plastic","Staple",null,"Length","Strength","Mic","Matter","Uniformity",null,"(points)","(cents/lb)",null,"TX/NM/OK/KS","Prep","Other","Plastic",null,"38+","26-31","n/a","Normal",null,"a/ Premium applies only to white grades 11-41, leaf 1-6; 51, leaf 1-5; light spotted grades 12-32, leaf 1-5; 42, leaf 1-4; and 52, leaf 1-3.","Raw Mic PD"]
[null,null,null,null,null,null,null,null,null,null,null,{"$f":"IF(LEN(A8)=0,\"\",IF(LEN(E8)=0,\"HVI data needed\",INDEX('Staple Lookup'!$C$3:$C$100,MATCH(TRUE,'Staple Lookup'!$B$3:$B$100>=ROUND(E8,2),0))))","v":""},null,{"$f":"IF(OR(LEN(B8)=0,LEN(C8)=0,LEN(D8)=0),\"\",IF(AND(RIGHT(B8,1)*1=1,C8=8),-2000,IF(L8>=38,AB8,IF(L8<=31,AC8,AE8))))","v":""},{"$f":"IF(LEN(A8)=0,\"\",INDEX(Str!$C$1:$C$20,MATCH(ROUND(F8,1),Str!$A$1:$A$20,1)))","v":""},{"$f":"IF(LEN(A8)=0,\"\",IF(AND(AG8=1,AH8>0),AH8,IF(AND(AG8=0,AH8>0),0,AH8)))","v":""},{"$f":"IF(LEN(A8)=0,\"\",SUM(W8:Z8))","v":""},{"$f":"IF(LEN(A8)=0,\"\",INDEX(Uni!$C$1:$C$20,MATCH(ROUND($G8,1),Uni!$A$1:$A$20,1)))","v":""},null,{"$f":"IF(LEN(A8)=0,\"\",IF(OR(LEN(B8)=0,LEN(C8)=0,LEN(D8)=0,LEN(E8)=0,LEN(F8)=0,LEN(G8)=0),\"no HVI data\",SUM(N8:R8)))","v":""},{"$f":"IF(LEN(A8)=0,\"\",IF(OR(LEN(B8)=0,LEN(C8)=0,LEN(D8)=0,LEN(E8)=0,LEN(F8)=0,LEN(G8)=0),\"no HVI data\",IF('Base Values'!$B$6+(SUM($N8:$R8)/100)<0,0,'Base Values'!$B$6+(SUM(N8:R8)/100))))","v":""},null,{"$f":"IF(LEN(A8)=0,\"\",IF(LEN(H8)=0,INDEX(Ext!$A$1:$G$5,MATCH(0,Ext!$A$1:$A$5,0),MATCH(H$7,Ext!$A$2:$E$2,0)),IF(AND(H8>=0,H8<3),INDEX(Ext!$A$1:$G$5,MATCH(H8,Ext!$A$1:$A$5,0),MATCH(H$7,Ext!$A$2:$E$2,0)),\"invalid entry\")))","v":""},{"$f":"IF(LEN(B8)=0,\"\",IF(LEN(I8)=0,INDEX(Ext!$A$1:$G$5,MATCH(0,Ext!$A$1:$A$5,0),MATCH(I$7,Ext!$A$2:$E$2,0)),IF(AND(I8>=0,I8<3),INDEX(Ext!$A$1:$G$5,MATCH(I8,Ext!$A$1:$A$5,0),MATCH(I$7,Ext!$A$2:$E$2,0)),\"invalid entry\")))","v":""},{"$f":"IF(LEN(C8)=0,\"\",IF(LEN(J8)=0,INDEX(Ext!$A$1:$G$5,MATCH(0,Ext!$A$1:$A$5,0),MATCH(J$7,Ext!$A$2:$E$2,0)),IF(AND(J8>=0,J8<3),INDEX(Ext!$A$1:$G$5,MATCH(J8,Ext!$A$1:$A$5,0),MATCH(J$7,Ext!$A$2:$E$2,0)),\"invalid entry\")))","v":""}]
[null,null,null,null,null,null,null,null,null,null,null,{"$f":"IF(LEN(A9)=0,\"\",IF(LEN(E9)=0,\"HVI data needed\",INDEX('Staple Lookup'!$C$3:$C$100,MATCH(TRUE,'Staple Lookup'!$B$3:$B$100>=ROUND(E9,2),0))))","v":""},null,{"$f":"IF(OR(LEN(B9)=0,LEN(C9)=0,LEN(D9)=0),\"\",IF(AND(RIGHT(B9,1)*1=1,C9=8),-2000,IF(L9>=38,AB9,IF(L9<=31,AC9,AE9))))","v":""},{"$f":"IF(LEN(A9)=0,\"\",INDEX(Str!$C$1:$C$20,MATCH(ROUND(F9,1),Str!$A$1:$A$20,1)))","v":""},{"$f":"IF(LEN(A9)=0,\"\",IF(AND(AG9=1,AH9>0),AH9,IF(AND(AG9=0,AH9>0),0,AH9)))","v":""},{"$f":"IF(LEN(A9)=0,\"\",SUM(W9:Z9))","v":""},{"$f":"IF(LEN(A9)=0,\"\",INDEX(Uni!$C$1:$C$20,MATCH(ROUND($G9,1),Uni!$A$1:$A$20,1)))","v":""},null,{"$f":"IF(LEN(A9)=0,\"\",IF(OR(LEN(B9)=0,LEN(C9)=0,LEN(D9)=0,LEN(E9)=0,LEN(F9)=0,LEN(G9)=0),\"no HVI data\",SUM(N9:R9)))","v":""},{"$f":"IF(LEN(A9)=0,\"\",IF(OR(LEN(B9)=0,LEN(C9)=0,LEN(D9)=0,LEN(E9)=0,LEN(F9)=0,LEN(G9)=0),\"no HVI data\",IF('Base Values'!$B$6+(SUM($N9:$R9)/100)<0,0,'Base Values'!$B$6+(SUM(N9:R9)/100))))","v":""},null,{"$f":"IF(LEN(A9)=0,\"\",IF(LEN(H9)=0,INDEX(Ext!$A$1:$G$5,MATCH(0,Ext!$A$1:$A$5,0),MATCH(H$7,Ext!$A$2:$E$2,0)),IF(AND(H9>=0,H9<3),INDEX(Ext!$A$1:$G$5,MATCH(H9,Ext!$A$1:$A$5,0),MATCH(H$7,Ext!$A$2:$E$2,0)),\"invalid entry\")))","v":""},{"$f":"IF(LEN(B9)=0,\"\",IF(LEN(I9)=0,INDEX(Ext!$A$1:$G$5,MATCH(0,Ext!$A$1:$A$5,0),MATCH(I$7,Ext!$A$2:$E$2,0)),IF(AND(I9>=0,I9<3),INDEX(Ext!$A$1:$G$5,MATCH(I9,Ext!$A$1:$A$5,0),MATCH(I$7,Ext!$A$2:$E$2,0)),\"invalid entry\")))","v":""},{"$f":"IF(LEN(C9)=0,\"\",IF(LEN(J9)=0,INDEX(Ext!$A$1:$G$5,MATCH(0,Ext!$A$1:$A$5,0),MATCH(J$7,Ext!$A$2:$E$2,0)),IF(AND(J9>=0,J9<3),INDEX(Ext!$A$1:$G$5,MATCH(J9,Ext!$A$1:$A$5,0),MATCH(J$7,Ext!$A$2:$E$2,0)),\"invalid entry\")))","v":""}]
[null,null,null,null,null,null,null,null,null,null,null,{"$f":"IF(LEN(A10)=0,\"\",IF(LEN(E10)=0,\"HVI data needed\",INDEX('Staple Lookup'!$C$3:$C$100,MATCH(TRUE,'Staple Lookup'!$B$3:$B$100>=ROUND(E10,2),0))))","v":""},null,{"$f":"IF(OR(LEN(B10)=0,LEN(C10)=0,LEN(D10)=0),\"\",IF(AND(RIGHT(B10,1)*1=1,C10=8),-2000,IF(L10>=38,AB10,IF(L10<=31,AC10,AE10))))","v":""},{"$f":"IF(LEN(A10)=0,\"\",INDEX(Str!$C$1:$C$20,MATCH(ROUND(F10,1),Str!$A$1:$A$20,1)))","v":""},"","",{"$f":"IF(LEN(A10)=0,\"\",INDEX(Uni!$C$1:$C$20,MATCH(ROUND($G10,1),Uni!$A$1:$A$20,1)))","v":""},null,"",{"$f":"IF(LEN(A10)=0,\"\",IF(OR(LEN(B10)=0,LEN(C10)=0,LEN(D10)=0,LEN(E10)=0,LEN(F10)=0,LEN(G10)=0),\"no HVI data\",IF('Base Values'!$B$6+(SUM($N10:$R10)/100)<0,0,'Base Values'!$B$6+(SUM(N10:R10)/100))))","v":""},null,{"$f":"IF(LEN(A10)=0,\"\",IF(LEN(H10)=0,INDEX(Ext!$A$1:$G$5,MATCH(0,Ext!$A$1:$A$5,0),MATCH(H$7,Ext!$A$2:$E$2,0)),IF(AND(H10>=0,H10<3),INDEX(Ext!$A$1:$G$5,MATCH(H10,Ext!$A$1:$A$5,0),MATCH(H$7,Ext!$A$2:$E$2,0)),\"invalid entry\")))","v":""},{"$f":"IF(LEN(B10)=0,\"\",IF(LEN(I10)=0,INDEX(Ext!$A$1:$G$5,MATCH(0,Ext!$A$1:$A$5,0),MATCH(I$7,Ext!$A$2:$E$2,0)),IF(AND(I10>=0,I10<3),INDEX(Ext!$A$1:$G$5,MATCH(I10,Ext!$A$1:$A$5,0),MATCH(I$7,Ext!$A$2:$E$2,0)),\"invalid entry\")))","v":""},{"$f":"IF(LEN(C10)=0,\"\",IF(LEN(J10)=0,INDEX(Ext!$A$1:$G$5,MATCH(0,Ext!$A$1:$A$5,0),MATCH(J$7,Ext!$A$2:$E$2,0)),IF(AND(J10>=0,J10<3),INDEX(Ext!$A$1:$G$5,MATCH(J10,Ext!$A$1:$A$5,0),MATCH(J$7,Ext!$A$2:$E$2,0)),\"invalid entry\")))","v":""}]
[null,null,null,null,null,null,null,null,null,null,null,{"$f":"IF(LEN(A11)=0,\"\",IF(LEN(E11)=0,\"HVI data needed\",INDEX('Staple Lookup'!$C$3:$C$100,MATCH(TRUE,'Staple Lookup'!$B$3:$B$100>=ROUND(E11,2),0))))","v":""},null,{"$f":"IF(OR(LEN(B11)=0,LEN(C11)=0,LEN(D11)=0),\"\",IF(AND(RIGHT(B11,1)*1=1,C11=8),-2000,IF(L11>=38,AB11,IF(L11<=31,AC11,AE11))))","v":""},{"$f":"IF(LEN(A11)=0,\"\",INDEX(Str!$C$1:$C$20,MATCH(ROUND(F11,1),Str!$A$1:$A$20,1)))","v":""},"","",{"$f":"IF(LEN(A11)=0,\"\",INDEX(Uni!$C$1:$C$20,MATCH(ROUND($G11,1),Uni!$A$1:$A$20,1)))","v":""},null,"",{"$f":"IF(LEN(A11)=0,\"\",IF(OR(LEN(B11)=0,LEN(C11)=0,LEN(D11)=0,LEN(E11)=0,LEN(F11)=0,LEN(G11)=0),\"no HVI data\",IF('Base Values'!$B$6+(SUM($N11:$R11)/100)<0,0,'Base Values'!$B$6+(SUM(N11:R11)/100))))","v":""},null,{"$f":"IF(LEN(A11)=0,\"\",IF(LEN(H11)=0,INDEX(Ext!$A$1:$G$5,MATCH(0,Ext!$A$1:$A$5,0),MATCH(H$7,Ext!$A$2:$E$2,0)),IF(AND(H11>=0,H11<3),INDEX(Ext!$A$1:$G$5,MATCH(H11,Ext!$A$1:$A$5,0),MATCH(H$7,Ext!$A$2:$E$2,0)),\"invalid entry\")))","v":""},{"$f":"IF(LEN(B11)=0,\"\",IF(LEN(I11)=0,INDEX(Ext!$A$1:$G$5,MATCH(0,Ext!$A$1:$A$5,0),MATCH(I$7,Ext!$A$2:$E$2,0)),IF(AND(I11>=0,I11<3),INDEX(Ext!$A$1:$G$5,MATCH(I11,Ext!$A$1:$A$5,0),MATCH(I$7,Ext!$A$2:$E$2,0)),\"invalid entry\")))","v":""},{"$f":"IF(LEN(C11)=0,\"\",IF(LEN(J11)=0,INDEX(Ext!$A$1:$G$5,MATCH(0,Ext!$A$1:$A$5,0),MATCH(J$7,Ext!$A$2:$E$2,0)),IF(AND(J11>=0,J11<3),INDEX(Ext!$A$1:$G$5,MATCH(J11,Ext!$A$1:$A$5,0),MATCH(J$7,Ext!$A$2:$E$2,0)),\"invalid entry\")))","v":""}]
[null,null,null,null,null,null,null,null,null,null,null,{"$f":"IF(LEN(A12)=0,\"\",IF(LEN(E12)=0,\"HVI data needed\",INDEX('Staple Lookup'!$C$3:$C$100,MATCH(TRUE,'Staple Lookup'!$B$3:$B$100>=ROUND(E12,2),0))))","v":""},null,{"$f":"IF(OR(LEN(B12)=0,LEN(C12)=0,LEN(D12)=0),\"\",IF(AND(RIGHT(B12,1)*1=1,C12=8),-2000,IF(L12>=38,AB12,IF(L12<=31,AC12,AE12))))","v":""},{"$f":"IF(LEN(A12)=0,\"\",INDEX(Str!$C$1:$C$20,MATCH(ROUND(F12,1),Str!$A$1:$A$20,1)))","v":""},"","",{"$f":"IF(LEN(A12)=0,\"\",INDEX(Uni!$C$1:$C$20,MATCH(ROUND($G12,1),Uni!$A$1:$A$20,1)))","v":""},null,"",{"$f":"IF(LEN(A12)=0,\"\",IF(OR(LEN(B12)=0,LEN(C12)=0,LEN(D12)=0,LEN(E12)=0,LEN(F12)=0,LEN(G12)=0),\"no HVI data\",IF('Base Values'!$B$6+(SUM($N12:$R12)/100)<0,0,'Base Values'!$B$6+(SUM(N12:R12)/100))))","v":""},null,{"$f":"IF(LEN(A12)=0,\"\",IF(LEN(H12)=0,INDEX(Ext!$A$1:$G$5,MATCH(0,Ext!$A$1:$A$5,0),MATCH(H$7,Ext!$A$2:$E$2,0)),IF(AND(H12>=0,H12<3),INDEX(Ext!$A$1:$G$5,MATCH(H12,Ext!$A$1:$A$5,0),MATCH(H$7,Ext!$A$2:$E$2,0)),\"invalid entry\")))","v":""},{"$f":"IF(LEN(B12)=0,\"\",IF(LEN(I12)=0,INDEX(Ext!$A$1:$G$5,MATCH(0,Ext!$A$1:$A$5,0),MATCH(I$7,Ext!$A$2:$E$2,0)),IF(AND(I12>=0,I12<3),INDEX(Ext!$A$1:$G$5,MATCH(I12,Ext!$A$1:$A$5,0),MATCH(I$7,Ext!$A$2:$E$2,0)),\"invalid entry\")))","v":""},{"$f":"IF(LEN(C12)=0,\"\",IF(LEN(J12)=0,INDEX(Ext!$A$1:$G$5,MATCH(0,Ext!$A$1:$A$5,0),MATCH(J$7,Ext!$A$2:$E$2,0)),IF(AND(J12>=0,J12<3),INDEX(Ext!$A$1:$G$5,MATCH(J12,Ext!$A$1:$A$5,0),MATCH(J$7,Ext!$A$2:$E$2,0)),\"invalid entry\")))","v":""}]
[null,null,null,null,null,null,null,null,null,null,null,{"$f":"IF(LEN(A13)=0,\"\",IF(LEN(E13)=0,\"HVI data needed\",INDEX('Staple Lookup'!$C$3:$C$100,MATCH(TRUE,'Staple Lookup'!$B$3:$B$100>=ROUND(E13,2),0))))","v":""},null,{"$f":"IF(OR(LEN(B13)=0,LEN(C13)=0,LEN(D13)=0),\"\",IF(AND(RIGHT(B13,1)*1=1,C13=8),-2000,IF(L13>=38,AB13,IF(L13<=31,AC13,AE13))))","v":""},{"$f":"IF(LEN(A13)=0,\"\",INDEX(Str!$C$1:$C$20,MATCH(ROUND(F13,1),Str!$A$1:$A$20,1)))","v":""},"","",{"$f":"IF(LEN(A13)=0,\"\",INDEX(Uni!$C$1:$C$20,MATCH(ROUND($G13,1),Uni!$A$1:$A$20,1)))","v":""},null,"",{"$f":"IF(LEN(A13)=0,\"\",IF(OR(LEN(B13)=0,LEN(C13)=0,LEN(D13)=0,LEN(E13)=0,LEN(F13)=0,LEN(G13)=0),\"no HVI data\",IF('Base Values'!$B$6+(SUM($N13:$R13)/100)<0,0,'Base Values'!$B$6+(SUM(N13:R13)/100))))","v":""},null,{"$f":"IF(LEN(A13)=0,\"\",IF(LEN(H13)=0,INDEX(Ext!$A$1:$G$5,MATCH(0,Ext!$A$1:$A$5,0),MATCH(H$7,Ext!$A$2:$E$2,0)),IF(AND(H13>=0,H13<3),INDEX(Ext!$A$1:$G$5,MATCH(H13,Ext!$A$1:$A$5,0),MATCH(H$7,Ext!$A$2:$E$2,0)),\"invalid entry\")))","v":""},{"$f":"IF(LEN(B13)=0,\"\",IF(LEN(I13)=0,INDEX(Ext!$A$1:$G$5,MATCH(0,Ext!$A$1:$A$5,0),MATCH(I$7,Ext!$A$2:$E$2,0)),IF(AND(I13>=0,I13<3),INDEX(Ext!$A$1:$G$5,MATCH(I13,Ext!$A$1:$A$5,0),MATCH(I$7,Ext!$A$2:$E$2,0)),\"invalid entry\")))","v":""},{"$f":"IF(LEN(C13)=0,\"\",IF(LEN(J13)=0,INDEX(Ext!$A$1:$G$5,MATCH(0,Ext!$A$1:$A$5,0),MATCH(J$7,Ext!$A$2:$E$2,0)),IF(AND(J13>=0,J13<3),INDEX(Ext!$A$1:$G$5,MATCH(J13,Ext!$A$1:$A$5,0),MATCH(J$7,Ext!$A$2:$E$2,0)),\"invalid entry\")))","v":""}]
[null,null,null,null,null,null,null,null,null,null,null,{"$f":"IF(LEN(A14)=0,\"\",IF(LEN(E14)=0,\"HVI data needed\",INDEX('Staple Lookup'!$C$3:$C$100,MATCH(TRUE,'Staple Lookup'!$B$3:$B$100>=ROUND(E14,2),0))))","v":""},null,{"$f":"IF(OR(LEN(B14)=0,LEN(C14)=0,LEN(D14)=0),\"\",IF(AND(RIGHT(B14,1)*1=1,C14=8),-2000,IF(L14>=38,AB14,IF(L14<=31,AC14,AE14))))","v":""},{"$f":"IF(LEN(A14)=0,\"\",INDEX(Str!$C$1:$C$20,MATCH(ROUND(F14,1),Str!$A$1:$A$20,1)))","v":""},"","",{"$f":"IF(LEN(A14)=0,\"\",INDEX(Uni!$C$1:$C$20,MATCH(ROUND($G14,1),Uni!$A$1:$A$20,1)))","v":""},null,"",{"$f":"IF(LEN(A14)=0,\"\",IF(OR(LEN(B14)=0,LEN(C14)=0,LEN(D14)=0,LEN(E14)=0,LEN(F14)=0,LEN(G14)=0),\"no HVI data\",IF('Base Values'!$B$6+(SUM($N14:$R14)/100)<0,0,'Base Values'!$B$6+(SUM(N14:R14)/100))))","v":""},null,{"$f":"IF(LEN(A14)=0,\"\",IF(LEN(H14)=0,INDEX(Ext!$A$1:$G$5,MATCH(0,Ext!$A$1:$A$5,0),MATCH(H$7,Ext!$A$2:$E$2,0)),IF(AND(H14>=0,H14<3),INDEX(Ext!$A$1:$G$5,MATCH(H14,Ext!$A$1:$A$5,0),MATCH(H$7,Ext!$A$2:$E$2,0)),\"invalid entry\")))","v":""},{"$f":"IF(LEN(B14)=0,\"\",IF(LEN(I14)=0,INDEX(Ext!$A$1:$G$5,MATCH(0,Ext!$A$1:$A$5,0),MATCH(I$7,Ext!$A$2:$E$2,0)),IF(AND(I14>=0,I14<3),INDEX(Ext!$A$1:$G$5,MATCH(I14,Ext!$A$1:$A$5,0),MATCH(I$7,Ext!$A$2:$E$2,0)),\"invalid entry\")))","v":""},{"$f":"IF(LEN(C14)=0,\"\",IF(LEN(J14)=0,INDEX(Ext!$A$1:$G$5,MATCH(0,Ext!$A$1:$A$5,0),MATCH(J$7,Ext!$A$2:$E$2,0)),IF(AND(J14>=0,J14<3),INDEX(Ext!$A$1:$G$5,MATCH(J14,Ext!$A$1:$A$5,0),MATCH(J$7,Ext!$A$2:$E$2,0)),\"invalid entry\")))","v":""}]
[null,null,null,null,null,null,null,null,null,null,null,{"$f":"IF(LEN(A15)=0,\"\",IF(LEN(E15)=0,\"HVI data needed\",INDEX('Staple Lookup'!$C$3:$C$100,MATCH(TRUE,'Staple Lookup'!$B$3:$B$100>=ROUND(E15,2),0))))","v":""},null,{"$f":"IF(OR(LEN(B15)=0,LEN(C15)=0,LEN(D15)=0),\"\",IF(AND(RIGHT(B15,1)*1=1,C15=8),-2000,IF(L15>=38,AB15,IF(L15<=31,AC15,AE15))))","v":""},{"$f":"IF(LEN(A15)=0,\"\",INDEX(Str!$C$1:$C$20,MATCH(ROUND(F15,1),Str!$A$1:$A$20,1)))","v":""},"","",{"$f":"IF(LEN(A15)=0,\"\",INDEX(Uni!$C$1:$C$20,MATCH(ROUND($G15,1),Uni!$A$1:$A$20,1)))","v":""},null,"",{"$f":"IF(LEN(A15)=0,\"\",IF(OR(LEN(B15)=0,LEN(C15)=0,LEN(D15)=0,LEN(E15)=0,LEN(F15)=0,LEN(G15)=0),\"no HVI data\",IF('Base Values'!$B$6+(SUM($N15:$R15)/100)<0,0,'Base Values'!$B$6+(SUM(N15:R15)/100))))","v":""},null,{"$f":"IF(LEN(A15)=0,\"\",IF(LEN(H15)=0,INDEX(Ext!$A$1:$G$5,MATCH(0,Ext!$A$1:$A$5,0),MATCH(H$7,Ext!$A$2:$E$2,0)),IF(AND(H15>=0,H15<3),INDEX(Ext!$A$1:$G$5,MATCH(H15,Ext!$A$1:$A$5,0),MATCH(H$7,Ext!$A$2:$E$2,0)),\"invalid entry\")))","v":""},{"$f":"IF(LEN(B15)=0,\"\",IF(LEN(I15)=0,INDEX(Ext!$A$1:$G$5,MATCH(0,Ext!$A$1:$A$5,0),MATCH(I$7,Ext!$A$2:$E$2,0)),IF(AND(I15>=0,I15<3),INDEX(Ext!$A$1:$G$5,MATCH(I15,Ext!$A$1:$A$5,0),MATCH(I$7,Ext!$A$2:$E$2,0)),\"invalid entry\")))","v":""},{"$f":"IF(LEN(C15)=0,\"\",IF(LEN(J15)=0,INDEX(Ext!$A$1:$G$5,MATCH(0,Ext!$A$1:$A$5,0),MATCH(J$7,Ext!$A$2:$E$2,0)),IF(AND(J15>=0,J15<3),INDEX(Ext!$A$1:$G$5,MATCH(J15,Ext!$A$1:$A$5,0),MATCH(J$7,Ext!$A$2:$E$2,0)),\"invalid entry\")))","v":""}]
[null,null,null,null,null,null,null,null,null,null,null,{"$f":"IF(LEN(A16)=0,\"\",IF(LEN(E16)=0,\"HVI data needed\",INDEX('Staple Lookup'!$C$3:$C$100,MATCH(TRUE,'Staple Lookup'!$B$3:$B$100>=ROUND(E16,2),0))))","v":""},null,{"$f":"IF(OR(LEN(B16)=0,LEN(C16)=0,LEN(D16)=0),\"\",IF(AND(RIGHT(B16,1)*1=1,C16=8),-2000,IF(L16>=38,AB16,IF(L16<=31,AC16,AE16))))","v":""},{"$f":"IF(LEN(A16)=0,\"\",INDEX(Str!$C$1:$C$20,MATCH(ROUND(F16,1),Str!$A$1:$A$20,1)))","v":""},"","",{"$f":"IF(LEN(A16)=0,\"\",INDEX(Uni!$C$1:$C$20,MATCH(ROUND($G16,1),Uni!$A$1:$A$20,1)))","v":""},null,"",{"$f":"IF(LEN(A16)=0,\"\",IF(OR(LEN(B16)=0,LEN(C16)=0,LEN(D16)=0,LEN(E16)=0,LEN(F16)=0,LEN(G16)=0),\"no HVI data\",IF('Base Values'!$B$6+(SUM($N16:$R16)/100)<0,0,'Base Values'!$B$6+(SUM(N16:R16)/100))))","v":""},null,{"$f":"IF(LEN(A16)=0,\"\",IF(LEN(H16)=0,INDEX(Ext!$A$1:$G$5,MATCH(0,Ext!$A$1:$A$5,0),MATCH(H$7,Ext!$A$2:$E$2,0)),IF(AND(H16>=0,H16<3),INDEX(Ext!$A$1:$G$5,MATCH(H16,Ext!$A$1:$A$5,0),MATCH(H$7,Ext!$A$2:$E$2,0)),\"invalid entry\")))","v":""},{"$f":"IF(LEN(B16)=0,\"\",IF(LEN(I16)=0,INDEX(Ext!$A$1:$G$5,MATCH(0,Ext!$A$1:$A$5,0),MATCH(I$7,Ext!$A$2:$E$2,0)),IF(AND(I16>=0,I16<3),INDEX(Ext!$A$1:$G$5,MATCH(I16,Ext!$A$1:$A$5,0),MATCH(I$7,Ext!$A$2:$E$2,0)),\"invalid entry\")))","v":""},{"$f":"IF(LEN(C16)=0,\"\",IF(LEN(J16)=0,INDEX(Ext!$A$1:$G$5,MATCH(0,Ext!$A$1:$A$5,0),MATCH(J$7,Ext!$A$2:$E$2,0)),IF(AND(J16>=0,J16<3),INDEX(Ext!$A$1:$G$5,MATCH(J16,Ext!$A$1:$A$5,0),MATCH(J$7,Ext!$A$2:$E$2,0)),\"invalid entry\")))","v":""}]
[null,null,null,null,null,null,null,null,null,null,null,{"$f":"IF(LEN(A17)=0,\"\",IF(LEN(E17)=0,\"HVI data needed\",INDEX('Staple Lookup'!$C$3:$C$100,MATCH(TRUE,'Staple Lookup'!$B$3:$B$100>=ROUND(E17,2),0))))","v":""},null,{"$f":"IF(OR(LEN(B17)=0,LEN(C17)=0,LEN(D17)=0),\"\",IF(AND(RIGHT(B17,1)*1=1,C17=8),-2000,IF(L17>=38,AB17,IF(L17<=31,AC17,AE17))))","v":""},{"$f":"IF(LEN(A17)=0,\"\",INDEX(Str!$C$1:$C$20,MATCH(ROUND(F17,1),Str!$A$1:$A$20,1)))","v":""},"","",{"$f":"IF(LEN(A17)=0,\"\",INDEX(Uni!$C$1:$C$20,MATCH(ROUND($G17,1),Uni!$A$1:$A$20,1)))","v":""},null,"",{"$f":"IF(LEN(A17)=0,\"\",IF(OR(LEN(B17)=0,LEN(C17)=0,LEN(D17)=0,LEN(E17)=0,LEN(F17)=0,LEN(G17)=0),\"no HVI data\",IF('Base Values'!$B$6+(SUM($N17:$R17)/100)<0,0,'Base Values'!$B$6+(SUM(N17:R17)/100))))","v":""},null,{"$f":"IF(LEN(A17)=0,\"\",IF(LEN(H17)=0,INDEX(Ext!$A$1:$G$5,MATCH(0,Ext!$A$1:$A$5,0),MATCH(H$7,Ext!$A$2:$E$2,0)),IF(AND(H17>=0,H17<3),INDEX(Ext!$A$1:$G$5,MATCH(H17,Ext!$A$1:$A$5,0),MATCH(H$7,Ext!$A$2:$E$2,0)),\"invalid entry\")))","v":""},{"$f":"IF(LEN(B17)=0,\"\",IF(LEN(I17)=0,INDEX(Ext!$A$1:$G$5,MATCH(0,Ext!$A$1:$A$5,0),MATCH(I$7,Ext!$A$2:$E$2,0)),IF(AND(I17>=0,I17<3),INDEX(Ext!$A$1:$G$5,MATCH(I17,Ext!$A$1:$A$5,0),MATCH(I$7,Ext!$A$2:$E$2,0)),\"invalid entry\")))","v":""},{"$f":"IF(LEN(C17)=0,\"\",IF(LEN(J17)=0,INDEX(Ext!$A$1:$G$5,MATCH(0,Ext!$A$1:$A$5,0),MATCH(J$7,Ext!$A$2:$E$2,0)),IF(AND(J17>=0,J17<3),INDEX(Ext!$A$1:$G$5,MATCH(J17,Ext!$A$1:$A$5,0),MATCH(J$7,Ext!$A$2:$E$2,0)),\"invalid entry\")))","v":""}]
[null,null,null,null,null,null,null,null,null,null,null,{"$f":"IF(LEN(A18)=0,\"\",IF(LEN(E18)=0,\"HVI data needed\",INDEX('Staple Lookup'!$C$3:$C$100,MATCH(TRUE,'Staple Lookup'!$B$3:$B$100>=ROUND(E18,2),0))))","v":""},null,{"$f":"IF(OR(LEN(B18)=0,LEN(C18)=0,LEN(D18)=0),\"\",IF(AND(RIGHT(B18,1)*1=1,C18=8),-2000,IF(L18>=38,AB18,IF(L18<=31,AC18,AE18))))","v":""},{"$f":"IF(LEN(A18)=0,\"\",INDEX(Str!$C$1:$C$20,MATCH(ROUND(F18,1),Str!$A$1:$A$20,1)))","v":""},"","",{"$f":"IF(LEN(A18)=0,\"\",INDEX(Uni!$C$1:$C$20,MATCH(ROUND($G18,1),Uni!$A$1:$A$20,1)))","v":""},null,"",{"$f":"IF(LEN(A18)=0,\"\",IF(OR(LEN(B18)=0,LEN(C18)=0,LEN(D18)=0,LEN(E18)=0,LEN(F18)=0,LEN(G18)=0),\"no HVI data\",IF('Base Values'!$B$6+(SUM($N18:$R18)/100)<0,0,'Base Values'!$B$6+(SUM(N18:R18)/100))))","v":""},null,{"$f":"IF(LEN(A18)=0,\"\",IF(LEN(H18)=0,INDEX(Ext!$A$1:$G$5,MATCH(0,Ext!$A$1:$A$5,0),MATCH(H$7,Ext!$A$2:$E$2,0)),IF(AND(H18>=0,H18<3),INDEX(Ext!$A$1:$G$5,MATCH(H18,Ext!$A$1:$A$5,0),MATCH(H$7,Ext!$A$2:$E$2,0)),\"invalid entry\")))","v":""},{"$f":"IF(LEN(B18)=0,\"\",IF(LEN(I18)=0,INDEX(Ext!$A$1:$G$5,MATCH(0,Ext!$A$1:$A$5,0),MATCH(I$7,Ext!$A$2:$E$2,0)),IF(AND(I18>=0,I18<3),INDEX(Ext!$A$1:$G$5,MATCH(I18,Ext!$A$1:$A$5,0),MATCH(I$7,Ext!$A$2:$E$2,0)),\"invalid entry\")))","v":""},{"$f":"IF(LEN(C18)=0,\"\",IF(LEN(J18)=0,INDEX(Ext!$A$1:$G$5,MATCH(0,Ext!$A$1:$A$5,0),MATCH(J$7,Ext!$A$2:$E$2,0)),IF(AND(J18>=0,J18<3),INDEX(Ext!$A$1:$G$5,MATCH(J18,Ext!$A$1:$A$5,0),MATCH(J$7,Ext!$A$2:$E$2,0)),\"invalid entry\")))","v":""}]
[null,null,null,null,null,null,null,null,null,null,null,{"$f":"IF(LEN(A19)=0,\"\",IF(LEN(E19)=0,\"HVI data needed\",INDEX('Staple Lookup'!$C$3:$C$100,MATCH(TRUE,'Staple Lookup'!$B$3:$B$100>=ROUND(E19,2),0))))","v":""},null,{"$f":"IF(OR(LEN(B19)=0,LEN(C19)=0,LEN(D19)=0),\"\",IF(AND(RIGHT(B19,1)*1=1,C19=8),-2000,IF(L19>=38,AB19,IF(L19<=31,AC19,AE19))))","v":""},{"$f":"IF(LEN(A19)=0,\"\",INDEX(Str!$C$1:$C$20,MATCH(ROUND(F19,1),Str!$A$1:$A$20,1)))","v":""},"","",{"$f":"IF(LEN(A19)=0,\"\",INDEX(Uni!$C$1:$C$20,MATCH(ROUND($G19,1),Uni!$A$1:$A$20,1)))","v":""},null,"",{"$f":"IF(LEN(A19)=0,\"\",IF(OR(LEN(B19)=0,LEN(C19)=0,LEN(D19)=0,LEN(E19)=0,LEN(F19)=0,LEN(G19)=0),\"no HVI data\",IF('Base Values'!$B$6+(SUM($N19:$R19)/100)<0,0,'Base Values'!$B$6+(SUM(N19:R19)/100))))","v":""},null,{"$f":"IF(LEN(A19)=0,\"\",IF(LEN(H19)=0,INDEX(Ext!$A$1:$G$5,MATCH(0,Ext!$A$1:$A$5,0),MATCH(H$7,Ext!$A$2:$E$2,0)),IF(AND(H19>=0,H19<3),INDEX(Ext!$A$1:$G$5,MATCH(H19,Ext!$A$1:$A$5,0),MATCH(H$7,Ext!$A$2:$E$2,0)),\"invalid entry\")))","v":""},{"$f":"IF(LEN(B19)=0,\"\",IF(LEN(I19)=0,INDEX(Ext!$A$1:$G$5,MATCH(0,Ext!$A$1:$A$5,0),MATCH(I$7,Ext!$A$2:$E$2,0)),IF(AND(I19>=0,I19<3),INDEX(Ext!$A$1:$G$5,MATCH(I19,Ext!$A$1:$A$5,0),MATCH(I$7,Ext!$A$2:$E$2,0)),\"invalid entry\")))","v":""},{"$f":"IF(LEN(C19)=0,\"\",IF(LEN(J19)=0,INDEX(Ext!$A$1:$G$5,MATCH(0,Ext!$A$1:$A$5,0),MATCH(J$7,Ext!$A$2:$E$2,0)),IF(AND(J19>=0,J19<3),INDEX(Ext!$A$1:$G$5,MATCH(J19,Ext!$A$1:$A$5,0),MATCH(J$7,Ext!$A$2:$E$2,0)),\"invalid entry\")))","v":""}]
[null,null,null,null,null,null,null,null,null,null,null,{"$f":"IF(LEN(A20)=0,\"\",IF(LEN(E20)=0,\"HVI data needed\",INDEX('Staple Lookup'!$C$3:$C$100,MATCH(TRUE,'Staple Lookup'!$B$3:$B$100>=ROUND(E20,2),0))))","v":""},null,{"$f":"IF(OR(LEN(B20)=0,LEN(C20)=0,LEN(D20)=0),\"\",IF(AND(RIGHT(B20,1)*1=1,C20=8),-2000,IF(L20>=38,AB20,IF(L20<=31,AC20,AE20))))","v":""},{"$f":"IF(LEN(A20)=0,\"\",INDEX(Str!$C$1:$C$20,MATCH(ROUND(F20,1),Str!$A$1:$A$20,1)))","v":""},"","",{"$f":"IF(LEN(A20)=0,\"\",INDEX(Uni!$C$1:$C$20,MATCH(ROUND($G20,1),Uni!$A$1:$A$20,1)))","v":""},null,"",{"$f":"IF(LEN(A20)=0,\"\",IF(OR(LEN(B20)=0,LEN(C20)=0,LEN(D20)=0,LEN(E20)=0,LEN(F20)=0,LEN(G20)=0),\"no HVI data\",IF('Base Values'!$B$6+(SUM($N20:$R20)/100)<0,0,'Base Values'!$B$6+(SUM(N20:R20)/100))))","v":""},null,{"$f":"IF(LEN(A20)=0,\"\",IF(LEN(H20)=0,INDEX(Ext!$A$1:$G$5,MATCH(0,Ext!$A$1:$A$5,0),MATCH(H$7,Ext!$A$2:$E$2,0)),IF(AND(H20>=0,H20<3),INDEX(Ext!$A$1:$G$5,MATCH(H20,Ext!$A$1:$A$5,0),MATCH(H$7,Ext!$A$2:$E$2,0)),\"invalid entry\")))","v":""},{"$f":"IF(LEN(B20)=0,\"\",IF(LEN(I20)=0,INDEX(Ext!$A$1:$G$5,MATCH(0,Ext!$A$1:$A$5,0),MATCH(I$7,Ext!$A$2:$E$2,0)),IF(AND(I20>=0,I20<3),INDEX(Ext!$A$1:$G$5,MATCH(I20,Ext!$A$1:$A$5,0),MATCH(I$7,Ext!$A$2:$E$2,0)),\"invalid entry\")))","v":""},{"$f":"IF(LEN(C20)=0,\"\",IF(LEN(J20)=0,INDEX(Ext!$A$1:$G$5,MATCH(0,Ext!$A$1:$A$5,0),MATCH(J$7,Ext!$A$2:$E$2,0)),IF(AND(J20>=0,J20<3),INDEX(Ext!$A$1:$G$5,MATCH(J20,Ext!$A$1:$A$5,0),MATCH(J$7,Ext!$A$2:$E$2,0)),\"invalid entry\")))","v":""}]
[null,null,null,null,null,null,null,null,null,null,null,{"$f":"IF(LEN(A21)=0,\"\",IF(LEN(E21)=0,\"HVI data needed\",INDEX('Staple Lookup'!$C$3:$C$100,MATCH(TRUE,'Staple Lookup'!$B$3:$B$100>=ROUND(E21,2),0))))","v":""},null,{"$f":"IF(OR(LEN(B21)=0,LEN(C21)=0,LEN(D21)=0),\"\",IF(AND(RIGHT(B21,1)*1=1,C21=8),-2000,IF(L21>=38,AB21,IF(L21<=31,AC21,AE21))))","v":""},{"$f":"IF(LEN(A21)=0,\"\",INDEX(Str!$C$1:$C$20,MATCH(ROUND(F21,1),Str!$A$1:$A$20,1)))","v":""},"","",{"$f":"IF(LEN(A21)=0,\"\",INDEX(Uni!$C$1:$C$20,MATCH(ROUND($G21,1),Uni!$A$1:$A$20,1)))","v":""},null,"",{"$f":"IF(LEN(A21)=0,\"\",IF(OR(LEN(B21)=0,LEN(C21)=0,LEN(D21)=0,LEN(E21)=0,LEN(F21)=0,LEN(G21)=0),\"no HVI data\",IF('Base Values'!$B$6+(SUM($N21:$R21)/100)<0,0,'Base Values'!$B$6+(SUM(N21:R21)/100))))","v":""},null,{"$f":"IF(LEN(A21)=0,\"\",IF(LEN(H21)=0,INDEX(Ext!$A$1:$G$5,MATCH(0,Ext!$A$1:$A$5,0),MATCH(H$7,Ext!$A$2:$E$2,0)),IF(AND(H21>=0,H21<3),INDEX(Ext!$A$1:$G$5,MATCH(H21,Ext!$A$1:$A$5,0),MATCH(H$7,Ext!$A$2:$E$2,0)),\"invalid entry\")))","v":""},{"$f":"IF(LEN(B21)=0,\"\",IF(LEN(I21)=0,INDEX(Ext!$A$1:$G$5,MATCH(0,Ext!$A$1:$A$5,0),MATCH(I$7,Ext!$A$2:$E$2,0)),IF(AND(I21>=0,I21<3),INDEX(Ext!$A$1:$G$5,MATCH(I21,Ext!$A$1:$A$5,0),MATCH(I$7,Ext!$A$2:$E$2,0)),\"invalid entry\")))","v":""},{"$f":"IF(LEN(C21)=0,\"\",IF(LEN(J21)=0,INDEX(Ext!$A$1:$G$5,MATCH(0,Ext!$A$1:$A$5,0),MATCH(J$7,Ext!$A$2:$E$2,0)),IF(AND(J21>=0,J21<3),INDEX(Ext!$A$1:$G$5,MATCH(J21,Ext!$A$1:$A$5,0),MATCH(J$7,Ext!$A$2:$E$2,0)),\"invalid entry\")))","v":""}]
[null,null,null,null,null,null,null,null,null,null,null,{"$f":"IF(LEN(A22)=0,\"\",IF(LEN(E22)=0,\"HVI data needed\",INDEX('Staple Lookup'!$C$3:$C$100,MATCH(TRUE,'Staple Lookup'!$B$3:$B$100>=ROUND(E22,2),0))))","v":""},null,{"$f":"IF(OR(LEN(B22)=0,LEN(C22)=0,LEN(D22)=0),\"\",IF(AND(RIGHT(B22,1)*1=1,C22=8),-2000,IF(L22>=38,AB22,IF(L22<=31,AC22,AE22))))","v":""},{"$f":"IF(LEN(A22)=0,\"\",INDEX(Str!$C$1:$C$20,MATCH(ROUND(F22,1),Str!$A$1:$A$20,1)))","v":""},"","",{"$f":"IF(LEN(A22)=0,\"\",INDEX(Uni!$C$1:$C$20,MATCH(ROUND($G22,1),Uni!$A$1:$A$20,1)))","v":""},null,"",{"$f":"IF(LEN(A22)=0,\"\",IF(OR(LEN(B22)=0,LEN(C22)=0,LEN(D22)=0,LEN(E22)=0,LEN(F22)=0,LEN(G22)=0),\"no HVI data\",IF('Base Values'!$B$6+(SUM($N22:$R22)/100)<0,0,'Base Values'!$B$6+(SUM(N22:R22)/100))))","v":""},null,{"$f":"IF(LEN(A22)=0,\"\",IF(LEN(H22)=0,INDEX(Ext!$A$1:$G$5,MATCH(0,Ext!$A$1:$A$5,0),MATCH(H$7,Ext!$A$2:$E$2,0)),IF(AND(H22>=0,H22<3),INDEX(Ext!$A$1:$G$5,MATCH(H22,Ext!$A$1:$A$5,0),MATCH(H$7,Ext!$A$2:$E$2,0)),\"invalid entry\")))","v":""},{"$f":"IF(LEN(B22)=0,\"\",IF(LEN(I22)=0,INDEX(Ext!$A$1:$G$5,MATCH(0,Ext!$A$1:$A$5,0),MATCH(I$7,Ext!$A$2:$E$2,0)),IF(AND(I22>=0,I22<3),INDEX(Ext!$A$1:$G$5,MATCH(I22,Ext!$A$1:$A$5,0),MATCH(I$7,Ext!$A$2:$E$2,0)),\"invalid entry\")))","v":""},{"$f":"IF(LEN(C22)=0,\"\",IF(LEN(J22)=0,INDEX(Ext!$A$1:$G$5,MATCH(0,Ext!$A$1:$A$5,0),MATCH(J$7,Ext!$A$2:$E$2,0)),IF(AND(J22>=0,J22<3),INDEX(Ext!$A$1:$G$5,MATCH(J22,Ext!$A$1:$A$5,0),MATCH(J$7,Ext!$A$2:$E$2,0)),\"invalid entry\")))","v":""}]
[null,null,null,null,null,null,null,null,null,null,null,{"$f":"IF(LEN(A23)=0,\"\",IF(LEN(E23)=0,\"HVI data needed\",INDEX('Staple Lookup'!$C$3:$C$100,MATCH(TRUE,'Staple Lookup'!$B$3:$B$100>=ROUND(E23,2),0))))","v":""},null,{"$f":"IF(OR(LEN(B23)=0,LEN(C23)=0,LEN(D23)=0),\"\",IF(AND(RIGHT(B23,1)*1=1,C23=8),-2000,IF(L23>=38,AB23,IF(L23<=31,AC23,AE23))))","v":""},{"$f":"IF(LEN(A23)=0,\"\",INDEX(Str!$C$1:$C$20,MATCH(ROUND(F23,1),Str!$A$1:$A$20,1)))","v":""},"","",{"$f":"IF(LEN(A23)=0,\"\",INDEX(Uni!$C$1:$C$20,MATCH(ROUND($G23,1),Uni!$A$1:$A$20,1)))","v":""},null,"",{"$f":"IF(LEN(A23)=0,\"\",IF(OR(LEN(B23)=0,LEN(C23)=0,LEN(D23)=0,LEN(E23)=0,LEN(F23)=0,LEN(G23)=0),\"no HVI data\",IF('Base Values'!$B$6+(SUM($N23:$R23)/100)<0,0,'Base Values'!$B$6+(SUM(N23:R23)/100))))","v":""},null,{"$f":"IF(LEN(A23)=0,\"\",IF(LEN(H23)=0,INDEX(Ext!$A$1:$G$5,MATCH(0,Ext!$A$1:$A$5,0),MATCH(H$7,Ext!$A$2:$E$2,0)),IF(AND(H23>=0,H23<3),INDEX(Ext!$A$1:$G$5,MATCH(H23,Ext!$A$1:$A$5,0),MATCH(H$7,Ext!$A$2:$E$2,0)),\"invalid entry\")))","v":""},{"$f":"IF(LEN(B23)=0,\"\",IF(LEN(I23)=0,INDEX(Ext!$A$1:$G$5,MATCH(0,Ext!$A$1:$A$5,0),MATCH(I$7,Ext!$A$2:$E$2,0)),IF(AND(I23>=0,I23<3),INDEX(Ext!$A$1:$G$5,MATCH(I23,Ext!$A$1:$A$5,0),MATCH(I$7,Ext!$A$2:$E$2,0)),\"invalid entry\")))","v":""},{"$f":"IF(LEN(C23)=0,\"\",IF(LEN(J23)=0,INDEX(Ext!$A$1:$G$5,MATCH(0,Ext!$A$1:$A$5,0),MATCH(J$7,Ext!$A$2:$E$2,0)),IF(AND(J23>=0,J23<3),INDEX(Ext!$A$1:$G$5,MATCH(J23,Ext!$A$1:$A$5,0),MATCH(J$7,Ext!$A$2:$E$2,0)),\"invalid entry\")))","v":""}]
[null,null,null,null,null,null,null,null,null,null,null,{"$f":"IF(LEN(A24)=0,\"\",IF(LEN(E24)=0,\"HVI data needed\",INDEX('Staple Lookup'!$C$3:$C$100,MATCH(TRUE,'Staple Lookup'!$B$3:$B$100>=ROUND(E24,2),0))))","v":""},null,{"$f":"IF(OR(LEN(B24)=0,LEN(C24)=0,LEN(D24)=0),\"\",IF(AND(RIGHT(B24,1)*1=1,C24=8),-2000,IF(L24>=38,AB24,IF(L24<=31,AC24,AE24))))","v":""},{"$f":"IF(LEN(A24)=0,\"\",INDEX(Str!$C$1:$C$20,MATCH(ROUND(F24,1),Str!$A$1:$A$20,1)))","v":""},"","",{"$f":"IF(LEN(A24)=0,\"\",INDEX(Uni!$C$1:$C$20,MATCH(ROUND($G24,1),Uni!$A$1:$A$20,1)))","v":""},null,"",{"$f":"IF(LEN(A24)=0,\"\",IF(OR(LEN(B24)=0,LEN(C24)=0,LEN(D24)=0,LEN(E24)=0,LEN(F24)=0,LEN(G24)=0),\"no HVI data\",IF('Base Values'!$B$6+(SUM($N24:$R24)/100)<0,0,'Base Values'!$B$6+(SUM(N24:R24)/100))))","v":""},null,{"$f":"IF(LEN(A24)=0,\"\",IF(LEN(H24)=0,INDEX(Ext!$A$1:$G$5,MATCH(0,Ext!$A$1:$A$5,0),MATCH(H$7,Ext!$A$2:$E$2,0)),IF(AND(H24>=0,H24<3),INDEX(Ext!$A$1:$G$5,MATCH(H24,Ext!$A$1:$A$5,0),MATCH(H$7,Ext!$A$2:$E$2,0)),\"invalid entry\")))","v":""},{"$f":"IF(LEN(B24)=0,\"\",IF(LEN(I24)=0,INDEX(Ext!$A$1:$G$5,MATCH(0,Ext!$A$1:$A$5,0),MATCH(I$7,Ext!$A$2:$E$2,0)),IF(AND(I24>=0,I24<3),INDEX(Ext!$A$1:$G$5,MATCH(I24,Ext!$A$1:$A$5,0),MATCH(I$7,Ext!$A$2:$E$2,0)),\"invalid entry\")))","v":""},{"$f":"IF(LEN(C24)=0,\"\",IF(LEN(J24)=0,INDEX(Ext!$A$1:$G$5,MATCH(0,Ext!$A$1:$A$5,0),MATCH(J$7,Ext!$A$2:$E$2,0)),IF(AND(J24>=0,J24<3),INDEX(Ext!$A$1:$G$5,MATCH(J24,Ext!$A$1:$A$5,0),MATCH(J$7,Ext!$A$2:$E$2,0)),\"invalid entry\")))","v":""}]
[null,null,null,null,null,null,null,null,null,null,null,{"$f":"IF(LEN(A25)=0,\"\",IF(LEN(E25)=0,\"HVI data needed\",INDEX('Staple Lookup'!$C$3:$C$100,MATCH(TRUE,'Staple Lookup'!$B$3:$B$100>=ROUND(E25,2),0))))","v":""},null,{"$f":"IF(OR(LEN(B25)=0,LEN(C25)=0,LEN(D25)=0),\"\",IF(AND(RIGHT(B25,1)*1=1,C25=8),-2000,IF(L25>=38,AB25,IF(L25<=31,AC25,AE25))))","v":""},{"$f":"IF(LEN(A25)=0,\"\",INDEX(Str!$C$1:$C$20,MATCH(ROUND(F25,1),Str!$A$1:$A$20,1)))","v":""},"","",{"$f":"IF(LEN(A25)=0,\"\",INDEX(Uni!$C$1:$C$20,MATCH(ROUND($G25,1),Uni!$A$1:$A$20,1)))","v":""},null,"",{"$f":"IF(LEN(A25)=0,\"\",IF(OR(LEN(B25)=0,LEN(C25)=0,LEN(D25)=0,LEN(E25)=0,LEN(F25)=0,LEN(G25)=0),\"no HVI data\",IF('Base Values'!$B$6+(SUM($N25:$R25)/100)<0,0,'Base Values'!$B$6+(SUM(N25:R25)/100))))","v":""},null,{"$f":"IF(LEN(A25)=0,\"\",IF(LEN(H25)=0,INDEX(Ext!$A$1:$G$5,MATCH(0,Ext!$A$1:$A$5,0),MATCH(H$7,Ext!$A$2:$E$2,0)),IF(AND(H25>=0,H25<3),INDEX(Ext!$A$1:$G$5,MATCH(H25,Ext!$A$1:$A$5,0),MATCH(H$7,Ext!$A$2:$E$2,0)),\"invalid entry\")))","v":""},{"$f":"IF(LEN(B25)=0,\"\",IF(LEN(I25)=0,INDEX(Ext!$A$1:$G$5,MATCH(0,Ext!$A$1:$A$5,0),MATCH(I$7,Ext!$A$2:$E$2,0)),IF(AND(I25>=0,I25<3),INDEX(Ext!$A$1:$G$5,MATCH(I25,Ext!$A$1:$A$5,0),MATCH(I$7,Ext!$A$2:$E$2,0)),\"invalid entry\")))","v":""},{"$f":"IF(LEN(C25)=0,\"\",IF(LEN(J25)=0,INDEX(Ext!$A$1:$G$5,MATCH(0,Ext!$A$1:$A$5,0),MATCH(J$7,Ext!$A$2:$E$2,0)),IF(AND(J25>=0,J25<3),INDEX(Ext!$A$1:$G$5,MATCH(J25,Ext!$A$1:$A$5,0),MATCH(J$7,Ext!$A$2:$E$2,0)),\"invalid entry\")))","v":""}]
[null,null,null,null,null,null,null,null,null,null,null,{"$f":"IF(LEN(A26)=0,\"\",IF(LEN(E26)=0,\"HVI data needed\",INDEX('Staple Lookup'!$C$3:$C$100,MATCH(TRUE,'Staple Lookup'!$B$3:$B$100>=ROUND(E26,2),0))))","v":""},null,{"$f":"IF(OR(LEN(B26)=0,LEN(C26)=0,LEN(D26)=0),\"\",IF(AND(RIGHT(B26,1)*1=1,C26=8),-2000,IF(L26>=38,AB26,IF(L26<=31,AC26,AE26))))","v":""},{"$f":"IF(LEN(A26)=0,\"\",INDEX(Str!$C$1:$C$20,MATCH(ROUND(F26,1),Str!$A$1:$A$20,1)))","v":""},"","",{"$f":"IF(LEN(A26)=0,\"\",INDEX(Uni!$C$1:$C$20,MATCH(ROUND($G26,1),Uni!$A$1:$A$20,1)))","v":""},null,"",{"$f":"IF(LEN(A26)=0,\"\",IF(OR(LEN(B26)=0,LEN(C26)=0,LEN(D26)=0,LEN(E26)=0,LEN(F26)=0,LEN(G26)=0),\"no HVI data\",IF('Base Values'!$B$6+(SUM($N26:$R26)/100)<0,0,'Base Values'!$B$6+(SUM(N26:R26)/100))))","v":""},null,{"$f":"IF(LEN(A26)=0,\"\",IF(LEN(H26)=0,INDEX(Ext!$A$1:$G$5,MATCH(0,Ext!$A$1:$A$5,0),MATCH(H$7,Ext!$A$2:$E$2,0)),IF(AND(H26>=0,H26<3),INDEX(Ext!$A$1:$G$5,MATCH(H26,Ext!$A$1:$A$5,0),MATCH(H$7,Ext!$A$2:$E$2,0)),\"invalid entry\")))","v":""},{"$f":"IF(LEN(B26)=0,\"\",IF(LEN(I26)=0,INDEX(Ext!$A$1:$G$5,MATCH(0,Ext!$A$1:$A$5,0),MATCH(I$7,Ext!$A$2:$E$2,0)),IF(AND(I26>=0,I26<3),INDEX(Ext!$A$1:$G$5,MATCH(I26,Ext!$A$1:$A$5,0),MATCH(I$7,Ext!$A$2:$E$2,0)),\"invalid entry\")))","v":""},{"$f":"IF(LEN(C26)=0,\"\",IF(LEN(J26)=0,INDEX(Ext!$A$1:$G$5,MATCH(0,Ext!$A$1:$A$5,0),MATCH(J$7,Ext!$A$2:$E$2,0)),IF(AND(J26>=0,J26<3),INDEX(Ext!$A$1:$G$5,MATCH(J26,Ext!$A$1:$A$5,0),MATCH(J$7,Ext!$A$2:$E$2,0)),\"invalid entry\")))","v":""}]
[null,null,null,null,null,null,null,null,null,null,null,{"$f":"IF(LEN(A27)=0,\"\",IF(LEN(E27)=0,\"HVI data needed\",INDEX('Staple Lookup'!$C$3:$C$100,MATCH(TRUE,'Staple Lookup'!$B$3:$B$100>=ROUND(E27,2),0))))","v":""},null,{"$f":"IF(OR(LEN(B27)=0,LEN(C27)=0,LEN(D27)=0),\"\",IF(AND(RIGHT(B27,1)*1=1,C27=8),-2000,IF(L27>=38,AB27,IF(L27<=31,AC27,AE27))))","v":""},{"$f":"IF(LEN(A27)=0,\"\",INDEX(Str!$C$1:$C$20,MATCH(ROUND(F27,1),Str!$A$1:$A$20,1)))","v":""},"","",{"$f":"IF(LEN(A27)=0,\"\",INDEX(Uni!$C$1:$C$20,MATCH(ROUND($G27,1),Uni!$A$1:$A$20,1)))","v":""},null,"",{"$f":"IF(LEN(A27)=0,\"\",IF(OR(LEN(B27)=0,LEN(C27)=0,LEN(D27)=0,LEN(E27)=0,LEN(F27)=0,LEN(G27)=0),\"no HVI data\",IF('Base Values'!$B$6+(SUM($N27:$R27)/100)<0,0,'Base Values'!$B$6+(SUM(N27:R27)/100))))","v":""},null,{"$f":"IF(LEN(A27)=0,\"\",IF(LEN(H27)=0,INDEX(Ext!$A$1:$G$5,MATCH(0,Ext!$A$1:$A$5,0),MATCH(H$7,Ext!$A$2:$E$2,0)),IF(AND(H27>=0,H27<3),INDEX(Ext!$A$1:$G$5,MATCH(H27,Ext!$A$1:$A$5,0),MATCH(H$7,Ext!$A$2:$E$2,0)),\"invalid entry\")))","v":""},{"$f":"IF(LEN(B27)=0,\"\",IF(LEN(I27)=0,INDEX(Ext!$A$1:$G$5,MATCH(0,Ext!$A$1:$A$5,0),MATCH(I$7,Ext!$A$2:$E$2,0)),IF(AND(I27>=0,I27<3),INDEX(Ext!$A$1:$G$5,MATCH(I27,Ext!$A$1:$A$5,0),MATCH(I$7,Ext!$A$2:$E$2,0)),\"invalid entry\")))","v":""},{"$f":"IF(LEN(C27)=0,\"\",IF(LEN(J27)=0,INDEX(Ext!$A$1:$G$5,MATCH(0,Ext!$A$1:$A$5,0),MATCH(J$7,Ext!$A$2:$E$2,0)),IF(AND(J27>=0,J27<3),INDEX(Ext!$A$1:$G$5,MATCH(J27,Ext!$A$1:$A$5,0),MATCH(J$7,Ext!$A$2:$E$2,0)),\"invalid entry\")))","v":""}]
[null,null,null,null,null,null,null,null,null,null,null,{"$f":"IF(LEN(A28)=0,\"\",IF(LEN(E28)=0,\"HVI data needed\",INDEX('Staple Lookup'!$C$3:$C$100,MATCH(TRUE,'Staple Lookup'!$B$3:$B$100>=ROUND(E28,2),0))))","v":""},null,{"$f":"IF(OR(LEN(B28)=0,LEN(C28)=0,LEN(D28)=0),\"\",IF(AND(RIGHT(B28,1)*1=1,C28=8),-2000,IF(L28>=38,AB28,IF(L28<=31,AC28,AE28))))","v":""},{"$f":"IF(LEN(A28)=0,\"\",INDEX(Str!$C$1:$C$20,MATCH(ROUND(F28,1),Str!$A$1:$A$20,1)))","v":""},"","",{"$f":"IF(LEN(A28)=0,\"\",INDEX(Uni!$C$1:$C$20,MATCH(ROUND($G28,1),Uni!$A$1:$A$20,1)))","v":""},null,"",{"$f":"IF(LEN(A28)=0,\"\",IF(OR(LEN(B28)=0,LEN(C28)=0,LEN(D28)=0,LEN(E28)=0,LEN(F28)=0,LEN(G28)=0),\"no HVI data\",IF('Base Values'!$B$6+(SUM($N28:$R28)/100)<0,0,'Base Values'!$B$6+(SUM(N28:R28)/100))))","v":""},null,{"$f":"IF(LEN(A28)=0,\"\",IF(LEN(H28)=0,INDEX(Ext!$A$1:$G$5,MATCH(0,Ext!$A$1:$A$5,0),MATCH(H$7,Ext!$A$2:$E$2,0)),IF(AND(H28>=0,H28<3),INDEX(Ext!$A$1:$G$5,MATCH(H28,Ext!$A$1:$A$5,0),MATCH(H$7,Ext!$A$2:$E$2,0)),\"invalid entry\")))","v":""},{"$f":"IF(LEN(B28)=0,\"\",IF(LEN(I28)=0,INDEX(Ext!$A$1:$G$5,MATCH(0,Ext!$A$1:$A$5,0),MATCH(I$7,Ext!$A$2:$E$2,0)),IF(AND(I28>=0,I28<3),INDEX(Ext!$A$1:$G$5,MATCH(I28,Ext!$A$1:$A$5,0),MATCH(I$7,Ext!$A$2:$E$2,0)),\"invalid entry\")))","v":""},{"$f":"IF(LEN(C28)=0,\"\",IF(LEN(J28)=0,INDEX(Ext!$A$1:$G$5,MATCH(0,Ext!$A$1:$A$5,0),MATCH(J$7,Ext!$A$2:$E$2,0)),IF(AND(J28>=0,J28<3),INDEX(Ext!$A$1:$G$5,MATCH(J28,Ext!$A$1:$A$5,0),MATCH(J$7,Ext!$A$2:$E$2,0)),\"invalid entry\")))","v":""}]
[null,null,null,null,null,null,null,null,null,null,null,{"$f":"IF(LEN(A29)=0,\"\",IF(LEN(E29)=0,\"HVI data needed\",INDEX('Staple Lookup'!$C$3:$C$100,MATCH(TRUE,'Staple Lookup'!$B$3:$B$100>=ROUND(E29,2),0))))","v":""},null,{"$f":"IF(OR(LEN(B29)=0,LEN(C29)=0,LEN(D29)=0),\"\",IF(AND(RIGHT(B29,1)*1=1,C29=8),-2000,IF(L29>=38,AB29,IF(L29<=31,AC29,AE29))))","v":""},{"$f":"IF(LEN(A29)=0,\"\",INDEX(Str!$C$1:$C$20,MATCH(ROUND(F29,1),Str!$A$1:$A$20,1)))","v":""},"","",{"$f":"IF(LEN(A29)=0,\"\",INDEX(Uni!$C$1:$C$20,MATCH(ROUND($G29,1),Uni!$A$1:$A$20,1)))","v":""},null,"",{"$f":"IF(LEN(A29)=0,\"\",IF(OR(LEN(B29)=0,LEN(C29)=0,LEN(D29)=0,LEN(E29)=0,LEN(F29)=0,LEN(G29)=0),\"no HVI data\",IF('Base Values'!$B$6+(SUM($N29:$R29)/100)<0,0,'Base Values'!$B$6+(SUM(N29:R29)/100))))","v":""},null,{"$f":"IF(LEN(A29)=0,\"\",IF(LEN(H29)=0,INDEX(Ext!$A$1:$G$5,MATCH(0,Ext!$A$1:$A$5,0),MATCH(H$7,Ext!$A$2:$E$2,0)),IF(AND(H29>=0,H29<3),INDEX(Ext!$A$1:$G$5,MATCH(H29,Ext!$A$1:$A$5,0),MATCH(H$7,Ext!$A$2:$E$2,0)),\"invalid entry\")))","v":""},{"$f":"IF(LEN(B29)=0,\"\",IF(LEN(I29)=0,INDEX(Ext!$A$1:$G$5,MATCH(0,Ext!$A$1:$A$5,0),MATCH(I$7,Ext!$A$2:$E$2,0)),IF(AND(I29>=0,I29<3),INDEX(Ext!$A$1:$G$5,MATCH(I29,Ext!$A$1:$A$5,0),MATCH(I$7,Ext!$A$2:$E$2,0)),\"invalid entry\")))","v":""},{"$f":"IF(LEN(C29)=0,\"\",IF(LEN(J29)=0,INDEX(Ext!$A$1:$G$5,MATCH(0,Ext!$A$1:$A$5,0),MATCH(J$7,Ext!$A$2:$E$2,0)),IF(AND(J29>=0,J29<3),INDEX(Ext!$A$1:$G$5,MATCH(J29,Ext!$A$1:$A$5,0),MATCH(J$7,Ext!$A$2:$E$2,0)),\"invalid entry\")))","v":""}]
[null,null,null,null,null,null,null,null,null,null,null,{"$f":"IF(LEN(A30)=0,\"\",IF(LEN(E30)=0,\"HVI data needed\",INDEX('Staple Lookup'!$C$3:$C$100,MATCH(TRUE,'Staple Lookup'!$B$3:$B$100>=ROUND(E30,2),0))))","v":""},null,{"$f":"IF(OR(LEN(B30)=0,LEN(C30)=0,LEN(D30)=0),\"\",IF(AND(RIGHT(B30,1)*1=1,C30=8),-2000,IF(L30>=38,AB30,IF(L30<=31,AC30,AE30))))","v":""},{"$f":"IF(LEN(A30)=0,\"\",INDEX(Str!$C$1:$C$20,MATCH(ROUND(F30,1),Str!$A$1:$A$20,1)))","v":""},"","",{"$f":"IF(LEN(A30)=0,\"\",INDEX(Uni!$C$1:$C$20,MATCH(ROUND($G30,1),Uni!$A$1:$A$20,1)))","v":""},null,"",{"$f":"IF(LEN(A30)=0,\"\",IF(OR(LEN(B30)=0,LEN(C30)=0,LEN(D30)=0,LEN(E30)=0,LEN(F30)=0,LEN(G30)=0),\"no HVI data\",IF('Base Values'!$B$6+(SUM($N30:$R30)/100)<0,0,'Base Values'!$B$6+(SUM(N30:R30)/100))))","v":""},null,{"$f":"IF(LEN(A30)=0,\"\",IF(LEN(H30)=0,INDEX(Ext!$A$1:$G$5,MATCH(0,Ext!$A$1:$A$5,0),MATCH(H$7,Ext!$A$2:$E$2,0)),IF(AND(H30>=0,H30<3),INDEX(Ext!$A$1:$G$5,MATCH(H30,Ext!$A$1:$A$5,0),MATCH(H$7,Ext!$A$2:$E$2,0)),\"invalid entry\")))","v":""},{"$f":"IF(LEN(B30)=0,\"\",IF(LEN(I30)=0,INDEX(Ext!$A$1:$G$5,MATCH(0,Ext!$A$1:$A$5,0),MATCH(I$7,Ext!$A$2:$E$2,0)),IF(AND(I30>=0,I30<3),INDEX(Ext!$A$1:$G$5,MATCH(I30,Ext!$A$1:$A$5,0),MATCH(I$7,Ext!$A$2:$E$2,0)),\"invalid entry\")))","v":""},{"$f":"IF(LEN(C30)=0,\"\",IF(LEN(J30)=0,INDEX(Ext!$A$1:$G$5,MATCH(0,Ext!$A$1:$A$5,0),MATCH(J$7,Ext!$A$2:$E$2,0)),IF(AND(J30>=0,J30<3),INDEX(Ext!$A$1:$G$5,MATCH(J30,Ext!$A$1:$A$5,0),MATCH(J$7,Ext!$A$2:$E$2,0)),\"invalid entry\")))","v":""}]
[null,null,null,null,null,null,null,null,null,null,null,{"$f":"IF(LEN(A31)=0,\"\",IF(LEN(E31)=0,\"HVI data needed\",INDEX('Staple Lookup'!$C$3:$C$100,MATCH(TRUE,'Staple Lookup'!$B$3:$B$100>=ROUND(E31,2),0))))","v":""},null,{"$f":"IF(OR(LEN(B31)=0,LEN(C31)=0,LEN(D31)=0),\"\",IF(AND(RIGHT(B31,1)*1=1,C31=8),-2000,IF(L31>=38,AB31,IF(L31<=31,AC31,AE31))))","v":""},{"$f":"IF(LEN(A31)=0,\"\",INDEX(Str!$C$1:$C$20,MATCH(ROUND(F31,1),Str!$A$1:$A$20,1)))","v":""},"","",{"$f":"IF(LEN(A31)=0,\"\",INDEX(Uni!$C$1:$C$20,MATCH(ROUND($G31,1),Uni!$A$1:$A$20,1)))","v":""},null,"",{"$f":"IF(LEN(A31)=0,\"\",IF(OR(LEN(B31)=0,LEN(C31)=0,LEN(D31)=0,LEN(E31)=0,LEN(F31)=0,LEN(G31)=0),\"no HVI data\",IF('Base Values'!$B$6+(SUM($N31:$R31)/100)<0,0,'Base Values'!$B$6+(SUM(N31:R31)/100))))","v":""},null,{"$f":"IF(LEN(A31)=0,\"\",IF(LEN(H31)=0,INDEX(Ext!$A$1:$G$5,MATCH(0,Ext!$A$1:$A$5,0),MATCH(H$7,Ext!$A$2:$E$2,0)),IF(AND(H31>=0,H31<3),INDEX(Ext!$A$1:$G$5,MATCH(H31,Ext!$A$1:$A$5,0),MATCH(H$7,Ext!$A$2:$E$2,0)),\"invalid entry\")))","v":""},{"$f":"IF(LEN(B31)=0,\"\",IF(LEN(I31)=0,INDEX(Ext!$A$1:$G$5,MATCH(0,Ext!$A$1:$A$5,0),MATCH(I$7,Ext!$A$2:$E$2,0)),IF(AND(I31>=0,I31<3),INDEX(Ext!$A$1:$G$5,MATCH(I31,Ext!$A$1:$A$5,0),MATCH(I$7,Ext!$A$2:$E$2,0)),\"invalid entry\")))","v":""},{"$f":"IF(LEN(C31)=0,\"\",IF(LEN(J31)=0,INDEX(Ext!$A$1:$G$5,MATCH(0,Ext!$A$1:$A$5,0),MATCH(J$7,Ext!$A$2:$E$2,0)),IF(AND(J31>=0,J31<3),INDEX(Ext!$A$1:$G$5,MATCH(J31,Ext!$A$1:$A$5,0),MATCH(J$7,Ext!$A$2:$E$2,0)),\"invalid entry\")))","v":""}]
[null,null,null,null,null,null,null,null,null,null,null,{"$f":"IF(LEN(A32)=0,\"\",IF(LEN(E32)=0,\"HVI data needed\",INDEX('Staple Lookup'!$C$3:$C$100,MATCH(TRUE,'Staple Lookup'!$B$3:$B$100>=ROUND(E32,2),0))))","v":""},null,{"$f":"IF(OR(LEN(B32)=0,LEN(C32)=0,LEN(D32)=0),\"\",IF(AND(RIGHT(B32,1)*1=1,C32=8),-2000,IF(L32>=38,AB32,IF(L32<=31,AC32,AE32))))","v":""},{"$f":"IF(LEN(A32)=0,\"\",INDEX(Str!$C$1:$C$20,MATCH(ROUND(F32,1),Str!$A$1:$A$20,1)))","v":""},"","",{"$f":"IF(LEN(A32)=0,\"\",INDEX(Uni!$C$1:$C$20,MATCH(ROUND($G32,1),Uni!$A$1:$A$20,1)))","v":""},null,"",{"$f":"IF(LEN(A32)=0,\"\",IF(OR(LEN(B32)=0,LEN(C32)=0,LEN(D32)=0,LEN(E32)=0,LEN(F32)=0,LEN(G32)=0),\"no HVI data\",IF('Base Values'!$B$6+(SUM($N32:$R32)/100)<0,0,'Base Values'!$B$6+(SUM(N32:R32)/100))))","v":""},null,{"$f":"IF(LEN(A32)=0,\"\",IF(LEN(H32)=0,INDEX(Ext!$A$1:$G$5,MATCH(0,Ext!$A$1:$A$5,0),MATCH(H$7,Ext!$A$2:$E$2,0)),IF(AND(H32>=0,H32<3),INDEX(Ext!$A$1:$G$5,MATCH(H32,Ext!$A$1:$A$5,0),MATCH(H$7,Ext!$A$2:$E$2,0)),\"invalid entry\")))","v":""},{"$f":"IF(LEN(B32)=0,\"\",IF(LEN(I32)=0,INDEX(Ext!$A$1:$G$5,MATCH(0,Ext!$A$1:$A$5,0),MATCH(I$7,Ext!$A$2:$E$2,0)),IF(AND(I32>=0,I32<3),INDEX(Ext!$A$1:$G$5,MATCH(I32,Ext!$A$1:$A$5,0),MATCH(I$7,Ext!$A$2:$E$2,0)),\"invalid entry\")))","v":""},{"$f":"IF(LEN(C32)=0,\"\",IF(LEN(J32)=0,INDEX(Ext!$A$1:$G$5,MATCH(0,Ext!$A$1:$A$5,0),MATCH(J$7,Ext!$A$2:$E$2,0)),IF(AND(J32>=0,J32<3),INDEX(Ext!$A$1:$G$5,MATCH(J32,Ext!$A$1:$A$5,0),MATCH(J$7,Ext!$A$2:$E$2,0)),\"invalid entry\")))","v":""}]
[null,null,null,null,null,null,null,null,null,null,null,{"$f":"IF(LEN(A33)=0,\"\",IF(LEN(E33)=0,\"HVI data needed\",INDEX('Staple Lookup'!$C$3:$C$100,MATCH(TRUE,'Staple Lookup'!$B$3:$B$100>=ROUND(E33,2),0))))","v":""},null,{"$f":"IF(OR(LEN(B33)=0,LEN(C33)=0,LEN(D33)=0),\"\",IF(AND(RIGHT(B33,1)*1=1,C33=8),-2000,IF(L33>=38,AB33,IF(L33<=31,AC33,AE33))))","v":""},{"$f":"IF(LEN(A33)=0,\"\",INDEX(Str!$C$1:$C$20,MATCH(ROUND(F33,1),Str!$A$1:$A$20,1)))","v":""},"","",{"$f":"IF(LEN(A33)=0,\"\",INDEX(Uni!$C$1:$C$20,MATCH(ROUND($G33,1),Uni!$A$1:$A$20,1)))","v":""},null,"",{"$f":"IF(LEN(A33)=0,\"\",IF(OR(LEN(B33)=0,LEN(C33)=0,LEN(D33)=0,LEN(E33)=0,LEN(F33)=0,LEN(G33)=0),\"no HVI data\",IF('Base Values'!$B$6+(SUM($N33:$R33)/100)<0,0,'Base Values'!$B$6+(SUM(N33:R33)/100))))","v":""},null,{"$f":"IF(LEN(A33)=0,\"\",IF(LEN(H33)=0,INDEX(Ext!$A$1:$G$5,MATCH(0,Ext!$A$1:$A$5,0),MATCH(H$7,Ext!$A$2:$E$2,0)),IF(AND(H33>=0,H33<3),INDEX(Ext!$A$1:$G$5,MATCH(H33,Ext!$A$1:$A$5,0),MATCH(H$7,Ext!$A$2:$E$2,0)),\"invalid entry\")))","v":""},{"$f":"IF(LEN(B33)=0,\"\",IF(LEN(I33)=0,INDEX(Ext!$A$1:$G$5,MATCH(0,Ext!$A$1:$A$5,0),MATCH(I$7,Ext!$A$2:$E$2,0)),IF(AND(I33>=0,I33<3),INDEX(Ext!$A$1:$G$5,MATCH(I33,Ext!$A$1:$A$5,0),MATCH(I$7,Ext!$A$2:$E$2,0)),\"invalid entry\")))","v":""},{"$f":"IF(LEN(C33)=0,\"\",IF(LEN(J33)=0,INDEX(Ext!$A$1:$G$5,MATCH(0,Ext!$A$1:$A$5,0),MATCH(J$7,Ext!$A$2:$E$2,0)),IF(AND(J33>=0,J33<3),INDEX(Ext!$A$1:$G$5,MATCH(J33,Ext!$A$1:$A$5,0),MATCH(J$7,Ext!$A$2:$E$2,0)),\"invalid entry\")))","v":""}]
[null,null,null,null,null,null,null,null,null,null,null,{"$f":"IF(LEN(A34)=0,\"\",IF(LEN(E34)=0,\"HVI data needed\",INDEX('Staple Lookup'!$C$3:$C$100,MATCH(TRUE,'Staple Lookup'!$B$3:$B$100>=ROUND(E34,2),0))))","v":""},null,{"$f":"IF(OR(LEN(B34)=0,LEN(C34)=0,LEN(D34)=0),\"\",IF(AND(RIGHT(B34,1)*1=1,C34=8),-2000,IF(L34>=38,AB34,IF(L34<=31,AC34,AE34))))","v":""},{"$f":"IF(LEN(A34)=0,\"\",INDEX(Str!$C$1:$C$20,MATCH(ROUND(F34,1),Str!$A$1:$A$20,1)))","v":""},"","",{"$f":"IF(LEN(A34)=0,\"\",INDEX(Uni!$C$1:$C$20,MATCH(ROUND($G34,1),Uni!$A$1:$A$20,1)))","v":""},null,"",{"$f":"IF(LEN(A34)=0,\"\",IF(OR(LEN(B34)=0,LEN(C34)=0,LEN(D34)=0,LEN(E34)=0,LEN(F34)=0,LEN(G34)=0),\"no HVI data\",IF('Base Values'!$B$6+(SUM($N34:$R34)/100)<0,0,'Base Values'!$B$6+(SUM(N34:R34)/100))))","v":""},null,{"$f":"IF(LEN(A34)=0,\"\",IF(LEN(H34)=0,INDEX(Ext!$A$1:$G$5,MATCH(0,Ext!$A$1:$A$5,0),MATCH(H$7,Ext!$A$2:$E$2,0)),IF(AND(H34>=0,H34<3),INDEX(Ext!$A$1:$G$5,MATCH(H34,Ext!$A$1:$A$5,0),MATCH(H$7,Ext!$A$2:$E$2,0)),\"invalid entry\")))","v":""},{"$f":"IF(LEN(B34)=0,\"\",IF(LEN(I34)=0,INDEX(Ext!$A$1:$G$5,MATCH(0,Ext!$A$1:$A$5,0),MATCH(I$7,Ext!$A$2:$E$2,0)),IF(AND(I34>=0,I34<3),INDEX(Ext!$A$1:$G$5,MATCH(I34,Ext!$A$1:$A$5,0),MATCH(I$7,Ext!$A$2:$E$2,0)),\"invalid entry\")))","v":""},{"$f":"IF(LEN(C34)=0,\"\",IF(LEN(J34)=0,INDEX(Ext!$A$1:$G$5,MATCH(0,Ext!$A$1:$A$5,0),MATCH(J$7,Ext!$A$2:$E$2,0)),IF(AND(J34>=0,J34<3),INDEX(Ext!$A$1:$G$5,MATCH(J34,Ext!$A$1:$A$5,0),MATCH(J$7,Ext!$A$2:$E$2,0)),\"invalid entry\")))","v":""}]
[null,null,null,null,null,null,null,null,null,null,null,{"$f":"IF(LEN(A35)=0,\"\",IF(LEN(E35)=0,\"HVI data needed\",INDEX('Staple Lookup'!$C$3:$C$100,MATCH(TRUE,'Staple Lookup'!$B$3:$B$100>=ROUND(E35,2),0))))","v":""},null,{"$f":"IF(OR(LEN(B35)=0,LEN(C35)=0,LEN(D35)=0),\"\",IF(AND(RIGHT(B35,1)*1=1,C35=8),-2000,IF(L35>=38,AB35,IF(L35<=31,AC35,AE35))))","v":""},{"$f":"IF(LEN(A35)=0,\"\",INDEX(Str!$C$1:$C$20,MATCH(ROUND(F35,1),Str!$A$1:$A$20,1)))","v":""},"","",{"$f":"IF(LEN(A35)=0,\"\",INDEX(Uni!$C$1:$C$20,MATCH(ROUND($G35,1),Uni!$A$1:$A$20,1)))","v":""},null,"",{"$f":"IF(LEN(A35)=0,\"\",IF(OR(LEN(B35)=0,LEN(C35)=0,LEN(D35)=0,LEN(E35)=0,LEN(F35)=0,LEN(G35)=0),\"no HVI data\",IF('Base Values'!$B$6+(SUM($N35:$R35)/100)<0,0,'Base Values'!$B$6+(SUM(N35:R35)/100))))","v":""},null,{"$f":"IF(LEN(A35)=0,\"\",IF(LEN(H35)=0,INDEX(Ext!$A$1:$G$5,MATCH(0,Ext!$A$1:$A$5,0),MATCH(H$7,Ext!$A$2:$E$2,0)),IF(AND(H35>=0,H35<3),INDEX(Ext!$A$1:$G$5,MATCH(H35,Ext!$A$1:$A$5,0),MATCH(H$7,Ext!$A$2:$E$2,0)),\"invalid entry\")))","v":""},{"$f":"IF(LEN(B35)=0,\"\",IF(LEN(I35)=0,INDEX(Ext!$A$1:$G$5,MATCH(0,Ext!$A$1:$A$5,0),MATCH(I$7,Ext!$A$2:$E$2,0)),IF(AND(I35>=0,I35<3),INDEX(Ext!$A$1:$G$5,MATCH(I35,Ext!$A$1:$A$5,0),MATCH(I$7,Ext!$A$2:$E$2,0)),\"invalid entry\")))","v":""},{"$f":"IF(LEN(C35)=0,\"\",IF(LEN(J35)=0,INDEX(Ext!$A$1:$G$5,MATCH(0,Ext!$A$1:$A$5,0),MATCH(J$7,Ext!$A$2:$E$2,0)),IF(AND(J35>=0,J35<3),INDEX(Ext!$A$1:$G$5,MATCH(J35,Ext!$A$1:$A$5,0),MATCH(J$7,Ext!$A$2:$E$2,0)),\"invalid entry\")))","v":""}]
[null,null,null,null,null,null,null,null,null,null,null,{"$f":"IF(LEN(A36)=0,\"\",IF(LEN(E36)=0,\"HVI data needed\",INDEX('Staple Lookup'!$C$3:$C$100,MATCH(TRUE,'Staple Lookup'!$B$3:$B$100>=ROUND(E36,2),0))))","v":""},null,{"$f":"IF(OR(LEN(B36)=0,LEN(C36)=0,LEN(D36)=0),\"\",IF(AND(RIGHT(B36,1)*1=1,C36=8),-2000,IF(L36>=38,AB36,IF(L36<=31,AC36,AE36))))","v":""},{"$f":"IF(LEN(A36)=0,\"\",INDEX(Str!$C$1:$C$20,MATCH(ROUND(F36,1),Str!$A$1:$A$20,1)))","v":""},"","",{"$f":"IF(LEN(A36)=0,\"\",INDEX(Uni!$C$1:$C$20,MATCH(ROUND($G36,1),Uni!$A$1:$A$20,1)))","v":""},null,"",{"$f":"IF(LEN(A36)=0,\"\",IF(OR(LEN(B36)=0,LEN(C36)=0,LEN(D36)=0,LEN(E36)=0,LEN(F36)=0,LEN(G36)=0),\"no HVI data\",IF('Base Values'!$B$6+(SUM($N36:$R36)/100)<0,0,'Base Values'!$B$6+(SUM(N36:R36)/100))))","v":""},null,{"$f":"IF(LEN(A36)=0,\"\",IF(LEN(H36)=0,INDEX(Ext!$A$1:$G$5,MATCH(0,Ext!$A$1:$A$5,0),MATCH(H$7,Ext!$A$2:$E$2,0)),IF(AND(H36>=0,H36<3),INDEX(Ext!$A$1:$G$5,MATCH(H36,Ext!$A$1:$A$5,0),MATCH(H$7,Ext!$A$2:$E$2,0)),\"invalid entry\")))","v":""},{"$f":"IF(LEN(B36)=0,\"\",IF(LEN(I36)=0,INDEX(Ext!$A$1:$G$5,MATCH(0,Ext!$A$1:$A$5,0),MATCH(I$7,Ext!$A$2:$E$2,0)),IF(AND(I36>=0,I36<3),INDEX(Ext!$A$1:$G$5,MATCH(I36,Ext!$A$1:$A$5,0),MATCH(I$7,Ext!$A$2:$E$2,0)),\"invalid entry\")))","v":""},{"$f":"IF(LEN(C36)=0,\"\",IF(LEN(J36)=0,INDEX(Ext!$A$1:$G$5,MATCH(0,Ext!$A$1:$A$5,0),MATCH(J$7,Ext!$A$2:$E$2,0)),IF(AND(J36>=0,J36<3),INDEX(Ext!$A$1:$G$5,MATCH(J36,Ext!$A$1:$A$5,0),MATCH(J$7,Ext!$A$2:$E$2,0)),\"invalid entry\")))","v":""}]
[null,null,null,null,null,null,null,null,null,null,null,{"$f":"IF(LEN(A37)=0,\"\",IF(LEN(E37)=0,\"HVI data needed\",INDEX('Staple Lookup'!$C$3:$C$100,MATCH(TRUE,'Staple Lookup'!$B$3:$B$100>=ROUND(E37,2),0))))","v":""},null,{"$f":"IF(OR(LEN(B37)=0,LEN(C37)=0,LEN(D37)=0),\"\",IF(AND(RIGHT(B37,1)*1=1,C37=8),-2000,IF(L37>=38,AB37,IF(L37<=31,AC37,AE37))))","v":""},{"$f":"IF(LEN(A37)=0,\"\",INDEX(Str!$C$1:$C$20,MATCH(ROUND(F37,1),Str!$A$1:$A$20,1)))","v":""},"","",{"$f":"IF(LEN(A37)=0,\"\",INDEX(Uni!$C$1:$C$20,MATCH(ROUND($G37,1),Uni!$A$1:$A$20,1)))","v":""},null,"",{"$f":"IF(LEN(A37)=0,\"\",IF(OR(LEN(B37)=0,LEN(C37)=0,LEN(D37)=0,LEN(E37)=0,LEN(F37)=0,LEN(G37)=0),\"no HVI data\",IF('Base Values'!$B$6+(SUM($N37:$R37)/100)<0,0,'Base Values'!$B$6+(SUM(N37:R37)/100))))","v":""},null,{"$f":"IF(LEN(A37)=0,\"\",IF(LEN(H37)=0,INDEX(Ext!$A$1:$G$5,MATCH(0,Ext!$A$1:$A$5,0),MATCH(H$7,Ext!$A$2:$E$2,0)),IF(AND(H37>=0,H37<3),INDEX(Ext!$A$1:$G$5,MATCH(H37,Ext!$A$1:$A$5,0),MATCH(H$7,Ext!$A$2:$E$2,0)),\"invalid entry\")))","v":""},{"$f":"IF(LEN(B37)=0,\"\",IF(LEN(I37)=0,INDEX(Ext!$A$1:$G$5,MATCH(0,Ext!$A$1:$A$5,0),MATCH(I$7,Ext!$A$2:$E$2,0)),IF(AND(I37>=0,I37<3),INDEX(Ext!$A$1:$G$5,MATCH(I37,Ext!$A$1:$A$5,0),MATCH(I$7,Ext!$A$2:$E$2,0)),\"invalid entry\")))","v":""},{"$f":"IF(LEN(C37)=0,\"\",IF(LEN(J37)=0,INDEX(Ext!$A$1:$G$5,MATCH(0,Ext!$A$1:$A$5,0),MATCH(J$7,Ext!$A$2:$E$2,0)),IF(AND(J37>=0,J37<3),INDEX(Ext!$A$1:$G$5,MATCH(J37,Ext!$A$1:$A$5,0),MATCH(J$7,Ext!$A$2:$E$2,0)),\"invalid entry\")))","v":""}]
[null,null,null,null,null,null,null,null,null,null,null,{"$f":"IF(LEN(A38)=0,\"\",IF(LEN(E38)=0,\"HVI data needed\",INDEX('Staple Lookup'!$C$3:$C$100,MATCH(TRUE,'Staple Lookup'!$B$3:$B$100>=ROUND(E38,2),0))))","v":""},null,{"$f":"IF(OR(LEN(B38)=0,LEN(C38)=0,LEN(D38)=0),\"\",IF(AND(RIGHT(B38,1)*1=1,C38=8),-2000,IF(L38>=38,AB38,IF(L38<=31,AC38,AE38))))","v":""},{"$f":"IF(LEN(A38)=0,\"\",INDEX(Str!$C$1:$C$20,MATCH(ROUND(F38,1),Str!$A$1:$A$20,1)))","v":""},"","",{"$f":"IF(LEN(A38)=0,\"\",INDEX(Uni!$C$1:$C$20,MATCH(ROUND($G38,1),Uni!$A$1:$A$20,1)))","v":""},null,"",{"$f":"IF(LEN(A38)=0,\"\",IF(OR(LEN(B38)=0,LEN(C38)=0,LEN(D38)=0,LEN(E38)=0,LEN(F38)=0,LEN(G38)=0),\"no HVI data\",IF('Base Values'!$B$6+(SUM($N38:$R38)/100)<0,0,'Base Values'!$B$6+(SUM(N38:R38)/100))))","v":""},null,{"$f":"IF(LEN(A38)=0,\"\",IF(LEN(H38)=0,INDEX(Ext!$A$1:$G$5,MATCH(0,Ext!$A$1:$A$5,0),MATCH(H$7,Ext!$A$2:$E$2,0)),IF(AND(H38>=0,H38<3),INDEX(Ext!$A$1:$G$5,MATCH(H38,Ext!$A$1:$A$5,0),MATCH(H$7,Ext!$A$2:$E$2,0)),\"invalid entry\")))","v":""},{"$f":"IF(LEN(B38)=0,\"\",IF(LEN(I38)=0,INDEX(Ext!$A$1:$G$5,MATCH(0,Ext!$A$1:$A$5,0),MATCH(I$7,Ext!$A$2:$E$2,0)),IF(AND(I38>=0,I38<3),INDEX(Ext!$A$1:$G$5,MATCH(I38,Ext!$A$1:$A$5,0),MATCH(I$7,Ext!$A$2:$E$2,0)),\"invalid entry\")))","v":""},{"$f":"IF(LEN(C38)=0,\"\",IF(LEN(J38)=0,INDEX(Ext!$A$1:$G$5,MATCH(0,Ext!$A$1:$A$5,0),MATCH(J$7,Ext!$A$2:$E$2,0)),IF(AND(J38>=0,J38<3),INDEX(Ext!$A$1:$G$5,MATCH(J38,Ext!$A$1:$A$5,0),MATCH(J$7,Ext!$A$2:$E$2,0)),\"invalid entry\")))","v":""}]
[null,null,null,null,null,null,null,null,null,null,null,{"$f":"IF(LEN(A39)=0,\"\",IF(LEN(E39)=0,\"HVI data needed\",INDEX('Staple Lookup'!$C$3:$C$100,MATCH(TRUE,'Staple Lookup'!$B$3:$B$100>=ROUND(E39,2),0))))","v":""},null,{"$f":"IF(OR(LEN(B39)=0,LEN(C39)=0,LEN(D39)=0),\"\",IF(AND(RIGHT(B39,1)*1=1,C39=8),-2000,IF(L39>=38,AB39,IF(L39<=31,AC39,AE39))))","v":""},{"$f":"IF(LEN(A39)=0,\"\",INDEX(Str!$C$1:$C$20,MATCH(ROUND(F39,1),Str!$A$1:$A$20,1)))","v":""},"","",{"$f":"IF(LEN(A39)=0,\"\",INDEX(Uni!$C$1:$C$20,MATCH(ROUND($G39,1),Uni!$A$1:$A$20,1)))","v":""},null,"",{"$f":"IF(LEN(A39)=0,\"\",IF(OR(LEN(B39)=0,LEN(C39)=0,LEN(D39)=0,LEN(E39)=0,LEN(F39)=0,LEN(G39)=0),\"no HVI data\",IF('Base Values'!$B$6+(SUM($N39:$R39)/100)<0,0,'Base Values'!$B$6+(SUM(N39:R39)/100))))","v":""},null,{"$f":"IF(LEN(A39)=0,\"\",IF(LEN(H39)=0,INDEX(Ext!$A$1:$G$5,MATCH(0,Ext!$A$1:$A$5,0),MATCH(H$7,Ext!$A$2:$E$2,0)),IF(AND(H39>=0,H39<3),INDEX(Ext!$A$1:$G$5,MATCH(H39,Ext!$A$1:$A$5,0),MATCH(H$7,Ext!$A$2:$E$2,0)),\"invalid entry\")))","v":""},{"$f":"IF(LEN(B39)=0,\"\",IF(LEN(I39)=0,INDEX(Ext!$A$1:$G$5,MATCH(0,Ext!$A$1:$A$5,0),MATCH(I$7,Ext!$A$2:$E$2,0)),IF(AND(I39>=0,I39<3),INDEX(Ext!$A$1:$G$5,MATCH(I39,Ext!$A$1:$A$5,0),MATCH(I$7,Ext!$A$2:$E$2,0)),\"invalid entry\")))","v":""},{"$f":"IF(LEN(C39)=0,\"\",IF(LEN(J39)=0,INDEX(Ext!$A$1:$G$5,MATCH(0,Ext!$A$1:$A$5,0),MATCH(J$7,Ext!$A$2:$E$2,0)),IF(AND(J39>=0,J39<3),INDEX(Ext!$A$1:$G$5,MATCH(J39,Ext!$A$1:$A$5,0),MATCH(J$7,Ext!$A$2:$E$2,0)),\"invalid entry\")))","v":""}]
[null,null,null,null,null,null,null,null,null,null,null,{"$f":"IF(LEN(A40)=0,\"\",IF(LEN(E40)=0,\"HVI data needed\",INDEX('Staple Lookup'!$C$3:$C$100,MATCH(TRUE,'Staple Lookup'!$B$3:$B$100>=ROUND(E40,2),0))))","v":""},null,{"$f":"IF(OR(LEN(B40)=0,LEN(C40)=0,LEN(D40)=0),\"\",IF(AND(RIGHT(B40,1)*1=1,C40=8),-2000,IF(L40>=38,AB40,IF(L40<=31,AC40,AE40))))","v":""},{"$f":"IF(LEN(A40)=0,\"\",INDEX(Str!$C$1:$C$20,MATCH(ROUND(F40,1),Str!$A$1:$A$20,1)))","v":""},"","",{"$f":"IF(LEN(A40)=0,\"\",INDEX(Uni!$C$1:$C$20,MATCH(ROUND($G40,1),Uni!$A$1:$A$20,1)))","v":""},null,"",{"$f":"IF(LEN(A40)=0,\"\",IF(OR(LEN(B40)=0,LEN(C40)=0,LEN(D40)=0,LEN(E40)=0,LEN(F40)=0,LEN(G40)=0),\"no HVI data\",IF('Base Values'!$B$6+(SUM($N40:$R40)/100)<0,0,'Base Values'!$B$6+(SUM(N40:R40)/100))))","v":""},null,{"$f":"IF(LEN(A40)=0,\"\",IF(LEN(H40)=0,INDEX(Ext!$A$1:$G$5,MATCH(0,Ext!$A$1:$A$5,0),MATCH(H$7,Ext!$A$2:$E$2,0)),IF(AND(H40>=0,H40<3),INDEX(Ext!$A$1:$G$5,MATCH(H40,Ext!$A$1:$A$5,0),MATCH(H$7,Ext!$A$2:$E$2,0)),\"invalid entry\")))","v":""},{"$f":"IF(LEN(B40)=0,\"\",IF(LEN(I40)=0,INDEX(Ext!$A$1:$G$5,MATCH(0,Ext!$A$1:$A$5,0),MATCH(I$7,Ext!$A$2:$E$2,0)),IF(AND(I40>=0,I40<3),INDEX(Ext!$A$1:$G$5,MATCH(I40,Ext!$A$1:$A$5,0),MATCH(I$7,Ext!$A$2:$E$2,0)),\"invalid entry\")))","v":""},{"$f":"IF(LEN(C40)=0,\"\",IF(LEN(J40)=0,INDEX(Ext!$A$1:$G$5,MATCH(0,Ext!$A$1:$A$5,0),MATCH(J$7,Ext!$A$2:$E$2,0)),IF(AND(J40>=0,J40<3),INDEX(Ext!$A$1:$G$5,MATCH(J40,Ext!$A$1:$A$5,0),MATCH(J$7,Ext!$A$2:$E$2,0)),\"invalid entry\")))","v":""}]
[null,null,null,null,null,null,null,null,null,null,null,{"$f":"IF(LEN(A41)=0,\"\",IF(LEN(E41)=0,\"HVI data needed\",INDEX('Staple Lookup'!$C$3:$C$100,MATCH(TRUE,'Staple Lookup'!$B$3:$B$100>=ROUND(E41,2),0))))","v":""},null,{"$f":"IF(OR(LEN(B41)=0,LEN(C41)=0,LEN(D41)=0),\"\",IF(AND(RIGHT(B41,1)*1=1,C41=8),-2000,IF(L41>=38,AB41,IF(L41<=31,AC41,AE41))))","v":""},{"$f":"IF(LEN(A41)=0,\"\",INDEX(Str!$C$1:$C$20,MATCH(ROUND(F41,1),Str!$A$1:$A$20,1)))","v":""},"","",{"$f":"IF(LEN(A41)=0,\"\",INDEX(Uni!$C$1:$C$20,MATCH(ROUND($G41,1),Uni!$A$1:$A$20,1)))","v":""},null,"",{"$f":"IF(LEN(A41)=0,\"\",IF(OR(LEN(B41)=0,LEN(C41)=0,LEN(D41)=0,LEN(E41)=0,LEN(F41)=0,LEN(G41)=0),\"no HVI data\",IF('Base Values'!$B$6+(SUM($N41:$R41)/100)<0,0,'Base Values'!$B$6+(SUM(N41:R41)/100))))","v":""},null,{"$f":"IF(LEN(A41)=0,\"\",IF(LEN(H41)=0,INDEX(Ext!$A$1:$G$5,MATCH(0,Ext!$A$1:$A$5,0),MATCH(H$7,Ext!$A$2:$E$2,0)),IF(AND(H41>=0,H41<3),INDEX(Ext!$A$1:$G$5,MATCH(H41,Ext!$A$1:$A$5,0),MATCH(H$7,Ext!$A$2:$E$2,0)),\"invalid entry\")))","v":""},{"$f":"IF(LEN(B41)=0,\"\",IF(LEN(I41)=0,INDEX(Ext!$A$1:$G$5,MATCH(0,Ext!$A$1:$A$5,0),MATCH(I$7,Ext!$A$2:$E$2,0)),IF(AND(I41>=0,I41<3),INDEX(Ext!$A$1:$G$5,MATCH(I41,Ext!$A$1:$A$5,0),MATCH(I$7,Ext!$A$2:$E$2,0)),\"invalid entry\")))","v":""},{"$f":"IF(LEN(C41)=0,\"\",IF(LEN(J41)=0,INDEX(Ext!$A$1:$G$5,MATCH(0,Ext!$A$1:$A$5,0),MATCH(J$7,Ext!$A$2:$E$2,0)),IF(AND(J41>=0,J41<3),INDEX(Ext!$A$1:$G$5,MATCH(J41,Ext!$A$1:$A$5,0),MATCH(J$7,Ext!$A$2:$E$2,0)),\"invalid entry\")))","v":""}]
[null,null,null,null,null,null,null,null,null,null,null,{"$f":"IF(LEN(A42)=0,\"\",IF(LEN(E42)=0,\"HVI data needed\",INDEX('Staple Lookup'!$C$3:$C$100,MATCH(TRUE,'Staple Lookup'!$B$3:$B$100>=ROUND(E42,2),0))))","v":""},null,{"$f":"IF(OR(LEN(B42)=0,LEN(C42)=0,LEN(D42)=0),\"\",IF(AND(RIGHT(B42,1)*1=1,C42=8),-2000,IF(L42>=38,AB42,IF(L42<=31,AC42,AE42))))","v":""},{"$f":"IF(LEN(A42)=0,\"\",INDEX(Str!$C$1:$C$20,MATCH(ROUND(F42,1),Str!$A$1:$A$20,1)))","v":""},"","",{"$f":"IF(LEN(A42)=0,\"\",INDEX(Uni!$C$1:$C$20,MATCH(ROUND($G42,1),Uni!$A$1:$A$20,1)))","v":""},null,"",{"$f":"IF(LEN(A42)=0,\"\",IF(OR(LEN(B42)=0,LEN(C42)=0,LEN(D42)=0,LEN(E42)=0,LEN(F42)=0,LEN(G42)=0),\"no HVI data\",IF('Base Values'!$B$6+(SUM($N42:$R42)/100)<0,0,'Base Values'!$B$6+(SUM(N42:R42)/100))))","v":""},null,{"$f":"IF(LEN(A42)=0,\"\",IF(LEN(H42)=0,INDEX(Ext!$A$1:$G$5,MATCH(0,Ext!$A$1:$A$5,0),MATCH(H$7,Ext!$A$2:$E$2,0)),IF(AND(H42>=0,H42<3),INDEX(Ext!$A$1:$G$5,MATCH(H42,Ext!$A$1:$A$5,0),MATCH(H$7,Ext!$A$2:$E$2,0)),\"invalid entry\")))","v":""},{"$f":"IF(LEN(B42)=0,\"\",IF(LEN(I42)=0,INDEX(Ext!$A$1:$G$5,MATCH(0,Ext!$A$1:$A$5,0),MATCH(I$7,Ext!$A$2:$E$2,0)),IF(AND(I42>=0,I42<3),INDEX(Ext!$A$1:$G$5,MATCH(I42,Ext!$A$1:$A$5,0),MATCH(I$7,Ext!$A$2:$E$2,0)),\"invalid entry\")))","v":""},{"$f":"IF(LEN(C42)=0,\"\",IF(LEN(J42)=0,INDEX(Ext!$A$1:$G$5,MATCH(0,Ext!$A$1:$A$5,0),MATCH(J$7,Ext!$A$2:$E$2,0)),IF(AND(J42>=0,J42<3),INDEX(Ext!$A$1:$G$5,MATCH(J42,Ext!$A$1:$A$5,0),MATCH(J$7,Ext!$A$2:$E$2,0)),\"invalid entry\")))","v":""}]
[null,null,null,null,null,null,null,null,null,null,null,{"$f":"IF(LEN(A43)=0,\"\",IF(LEN(E43)=0,\"HVI data needed\",INDEX('Staple Lookup'!$C$3:$C$100,MATCH(TRUE,'Staple Lookup'!$B$3:$B$100>=ROUND(E43,2),0))))","v":""},null,{"$f":"IF(OR(LEN(B43)=0,LEN(C43)=0,LEN(D43)=0),\"\",IF(AND(RIGHT(B43,1)*1=1,C43=8),-2000,IF(L43>=38,AB43,IF(L43<=31,AC43,AE43))))","v":""},{"$f":"IF(LEN(A43)=0,\"\",INDEX(Str!$C$1:$C$20,MATCH(ROUND(F43,1),Str!$A$1:$A$20,1)))","v":""},"","",{"$f":"IF(LEN(A43)=0,\"\",INDEX(Uni!$C$1:$C$20,MATCH(ROUND($G43,1),Uni!$A$1:$A$20,1)))","v":""},null,"",{"$f":"IF(LEN(A43)=0,\"\",IF(OR(LEN(B43)=0,LEN(C43)=0,LEN(D43)=0,LEN(E43)=0,LEN(F43)=0,LEN(G43)=0),\"no HVI data\",IF('Base Values'!$B$6+(SUM($N43:$R43)/100)<0,0,'Base Values'!$B$6+(SUM(N43:R43)/100))))","v":""},null,{"$f":"IF(LEN(A43)=0,\"\",IF(LEN(H43)=0,INDEX(Ext!$A$1:$G$5,MATCH(0,Ext!$A$1:$A$5,0),MATCH(H$7,Ext!$A$2:$E$2,0)),IF(AND(H43>=0,H43<3),INDEX(Ext!$A$1:$G$5,MATCH(H43,Ext!$A$1:$A$5,0),MATCH(H$7,Ext!$A$2:$E$2,0)),\"invalid entry\")))","v":""},{"$f":"IF(LEN(B43)=0,\"\",IF(LEN(I43)=0,INDEX(Ext!$A$1:$G$5,MATCH(0,Ext!$A$1:$A$5,0),MATCH(I$7,Ext!$A$2:$E$2,0)),IF(AND(I43>=0,I43<3),INDEX(Ext!$A$1:$G$5,MATCH(I43,Ext!$A$1:$A$5,0),MATCH(I$7,Ext!$A$2:$E$2,0)),\"invalid entry\")))","v":""},{"$f":"IF(LEN(C43)=0,\"\",IF(LEN(J43)=0,INDEX(Ext!$A$1:$G$5,MATCH(0,Ext!$A$1:$A$5,0),MATCH(J$7,Ext!$A$2:$E$2,0)),IF(AND(J43>=0,J43<3),INDEX(Ext!$A$1:$G$5,MATCH(J43,Ext!$A$1:$A$5,0),MATCH(J$7,Ext!$A$2:$E$2,0)),\"invalid entry\")))","v":""}]
[null,null,null,null,null,null,null,null,null,null,null,{"$f":"IF(LEN(A44)=0,\"\",IF(LEN(E44)=0,\"HVI data needed\",INDEX('Staple Lookup'!$C$3:$C$100,MATCH(TRUE,'Staple Lookup'!$B$3:$B$100>=ROUND(E44,2),0))))","v":""},null,{"$f":"IF(OR(LEN(B44)=0,LEN(C44)=0,LEN(D44)=0),\"\",IF(AND(RIGHT(B44,1)*1=1,C44=8),-2000,IF(L44>=38,AB44,IF(L44<=31,AC44,AE44))))","v":""},{"$f":"IF(LEN(A44)=0,\"\",INDEX(Str!$C$1:$C$20,MATCH(ROUND(F44,1),Str!$A$1:$A$20,1)))","v":""},"","",{"$f":"IF(LEN(A44)=0,\"\",INDEX(Uni!$C$1:$C$20,MATCH(ROUND($G44,1),Uni!$A$1:$A$20,1)))","v":""},null,"",{"$f":"IF(LEN(A44)=0,\"\",IF(OR(LEN(B44)=0,LEN(C44)=0,LEN(D44)=0,LEN(E44)=0,LEN(F44)=0,LEN(G44)=0),\"no HVI data\",IF('Base Values'!$B$6+(SUM($N44:$R44)/100)<0,0,'Base Values'!$B$6+(SUM(N44:R44)/100))))","v":""},null,{"$f":"IF(LEN(A44)=0,\"\",IF(LEN(H44)=0,INDEX(Ext!$A$1:$G$5,MATCH(0,Ext!$A$1:$A$5,0),MATCH(H$7,Ext!$A$2:$E$2,0)),IF(AND(H44>=0,H44<3),INDEX(Ext!$A$1:$G$5,MATCH(H44,Ext!$A$1:$A$5,0),MATCH(H$7,Ext!$A$2:$E$2,0)),\"invalid entry\")))","v":""},{"$f":"IF(LEN(B44)=0,\"\",IF(LEN(I44)=0,INDEX(Ext!$A$1:$G$5,MATCH(0,Ext!$A$1:$A$5,0),MATCH(I$7,Ext!$A$2:$E$2,0)),IF(AND(I44>=0,I44<3),INDEX(Ext!$A$1:$G$5,MATCH(I44,Ext!$A$1:$A$5,0),MATCH(I$7,Ext!$A$2:$E$2,0)),\"invalid entry\")))","v":""},{"$f":"IF(LEN(C44)=0,\"\",IF(LEN(J44)=0,INDEX(Ext!$A$1:$G$5,MATCH(0,Ext!$A$1:$A$5,0),MATCH(J$7,Ext!$A$2:$E$2,0)),IF(AND(J44>=0,J44<3),INDEX(Ext!$A$1:$G$5,MATCH(J44,Ext!$A$1:$A$5,0),MATCH(J$7,Ext!$A$2:$E$2,0)),\"invalid entry\")))","v":""}]
[null,null,null,null,null,null,null,null,null,null,null,{"$f":"IF(LEN(A45)=0,\"\",IF(LEN(E45)=0,\"HVI data needed\",INDEX('Staple Lookup'!$C$3:$C$100,MATCH(TRUE,'Staple Lookup'!$B$3:$B$100>=ROUND(E45,2),0))))","v":""},null,{"$f":"IF(OR(LEN(B45)=0,LEN(C45)=0,LEN(D45)=0),\"\",IF(AND(RIGHT(B45,1)*1=1,C45=8),-2000,IF(L45>=38,AB45,IF(L45<=31,AC45,AE45))))","v":""},{"$f":"IF(LEN(A45)=0,\"\",INDEX(Str!$C$1:$C$20,MATCH(ROUND(F45,1),Str!$A$1:$A$20,1)))","v":""},"","",{"$f":"IF(LEN(A45)=0,\"\",INDEX(Uni!$C$1:$C$20,MATCH(ROUND($G45,1),Uni!$A$1:$A$20,1)))","v":""},null,"",{"$f":"IF(LEN(A45)=0,\"\",IF(OR(LEN(B45)=0,LEN(C45)=0,LEN(D45)=0,LEN(E45)=0,LEN(F45)=0,LEN(G45)=0),\"no HVI data\",IF('Base Values'!$B$6+(SUM($N45:$R45)/100)<0,0,'Base Values'!$B$6+(SUM(N45:R45)/100))))","v":""},null,{"$f":"IF(LEN(A45)=0,\"\",IF(LEN(H45)=0,INDEX(Ext!$A$1:$G$5,MATCH(0,Ext!$A$1:$A$5,0),MATCH(H$7,Ext!$A$2:$E$2,0)),IF(AND(H45>=0,H45<3),INDEX(Ext!$A$1:$G$5,MATCH(H45,Ext!$A$1:$A$5,0),MATCH(H$7,Ext!$A$2:$E$2,0)),\"invalid entry\")))","v":""},{"$f":"IF(LEN(B45)=0,\"\",IF(LEN(I45)=0,INDEX(Ext!$A$1:$G$5,MATCH(0,Ext!$A$1:$A$5,0),MATCH(I$7,Ext!$A$2:$E$2,0)),IF(AND(I45>=0,I45<3),INDEX(Ext!$A$1:$G$5,MATCH(I45,Ext!$A$1:$A$5,0),MATCH(I$7,Ext!$A$2:$E$2,0)),\"invalid entry\")))","v":""},{"$f":"IF(LEN(C45)=0,\"\",IF(LEN(J45)=0,INDEX(Ext!$A$1:$G$5,MATCH(0,Ext!$A$1:$A$5,0),MATCH(J$7,Ext!$A$2:$E$2,0)),IF(AND(J45>=0,J45<3),INDEX(Ext!$A$1:$G$5,MATCH(J45,Ext!$A$1:$A$5,0),MATCH(J$7,Ext!$A$2:$E$2,0)),\"invalid entry\")))","v":""}]
[null,null,null,null,null,null,null,null,null,null,null,{"$f":"IF(LEN(A46)=0,\"\",IF(LEN(E46)=0,\"HVI data needed\",INDEX('Staple Lookup'!$C$3:$C$100,MATCH(TRUE,'Staple Lookup'!$B$3:$B$100>=ROUND(E46,2),0))))","v":""},null,{"$f":"IF(OR(LEN(B46)=0,LEN(C46)=0,LEN(D46)=0),\"\",IF(AND(RIGHT(B46,1)*1=1,C46=8),-2000,IF(L46>=38,AB46,IF(L46<=31,AC46,AE46))))","v":""},{"$f":"IF(LEN(A46)=0,\"\",INDEX(Str!$C$1:$C$20,MATCH(ROUND(F46,1),Str!$A$1:$A$20,1)))","v":""},"","",{"$f":"IF(LEN(A46)=0,\"\",INDEX(Uni!$C$1:$C$20,MATCH(ROUND($G46,1),Uni!$A$1:$A$20,1)))","v":""},null,"",{"$f":"IF(LEN(A46)=0,\"\",IF(OR(LEN(B46)=0,LEN(C46)=0,LEN(D46)=0,LEN(E46)=0,LEN(F46)=0,LEN(G46)=0),\"no HVI data\",IF('Base Values'!$B$6+(SUM($N46:$R46)/100)<0,0,'Base Values'!$B$6+(SUM(N46:R46)/100))))","v":""},null,{"$f":"IF(LEN(A46)=0,\"\",IF(LEN(H46)=0,INDEX(Ext!$A$1:$G$5,MATCH(0,Ext!$A$1:$A$5,0),MATCH(H$7,Ext!$A$2:$E$2,0)),IF(AND(H46>=0,H46<3),INDEX(Ext!$A$1:$G$5,MATCH(H46,Ext!$A$1:$A$5,0),MATCH(H$7,Ext!$A$2:$E$2,0)),\"invalid entry\")))","v":""},{"$f":"IF(LEN(B46)=0,\"\",IF(LEN(I46)=0,INDEX(Ext!$A$1:$G$5,MATCH(0,Ext!$A$1:$A$5,0),MATCH(I$7,Ext!$A$2:$E$2,0)),IF(AND(I46>=0,I46<3),INDEX(Ext!$A$1:$G$5,MATCH(I46,Ext!$A$1:$A$5,0),MATCH(I$7,Ext!$A$2:$E$2,0)),\"invalid entry\")))","v":""},{"$f":"IF(LEN(C46)=0,\"\",IF(LEN(J46)=0,INDEX(Ext!$A$1:$G$5,MATCH(0,Ext!$A$1:$A$5,0),MATCH(J$7,Ext!$A$2:$E$2,0)),IF(AND(J46>=0,J46<3),INDEX(Ext!$A$1:$G$5,MATCH(J46,Ext!$A$1:$A$5,0),MATCH(J$7,Ext!$A$2:$E$2,0)),\"invalid entry\")))","v":""}]
[null,null,null,null,null,null,null,null,null,null,null,{"$f":"IF(LEN(A47)=0,\"\",IF(LEN(E47)=0,\"HVI data needed\",INDEX('Staple Lookup'!$C$3:$C$100,MATCH(TRUE,'Staple Lookup'!$B$3:$B$100>=ROUND(E47,2),0))))","v":""},null,{"$f":"IF(OR(LEN(B47)=0,LEN(C47)=0,LEN(D47)=0),\"\",IF(AND(RIGHT(B47,1)*1=1,C47=8),-2000,IF(L47>=38,AB47,IF(L47<=31,AC47,AE47))))","v":""},{"$f":"IF(LEN(A47)=0,\"\",INDEX(Str!$C$1:$C$20,MATCH(ROUND(F47,1),Str!$A$1:$A$20,1)))","v":""},"","",{"$f":"IF(LEN(A47)=0,\"\",INDEX(Uni!$C$1:$C$20,MATCH(ROUND($G47,1),Uni!$A$1:$A$20,1)))","v":""},null,"",{"$f":"IF(LEN(A47)=0,\"\",IF(OR(LEN(B47)=0,LEN(C47)=0,LEN(D47)=0,LEN(E47)=0,LEN(F47)=0,LEN(G47)=0),\"no HVI data\",IF('Base Values'!$B$6+(SUM($N47:$R47)/100)<0,0,'Base Values'!$B$6+(SUM(N47:R47)/100))))","v":""},null,{"$f":"IF(LEN(A47)=0,\"\",IF(LEN(H47)=0,INDEX(Ext!$A$1:$G$5,MATCH(0,Ext!$A$1:$A$5,0),MATCH(H$7,Ext!$A$2:$E$2,0)),IF(AND(H47>=0,H47<3),INDEX(Ext!$A$1:$G$5,MATCH(H47,Ext!$A$1:$A$5,0),MATCH(H$7,Ext!$A$2:$E$2,0)),\"invalid entry\")))","v":""},{"$f":"IF(LEN(B47)=0,\"\",IF(LEN(I47)=0,INDEX(Ext!$A$1:$G$5,MATCH(0,Ext!$A$1:$A$5,0),MATCH(I$7,Ext!$A$2:$E$2,0)),IF(AND(I47>=0,I47<3),INDEX(Ext!$A$1:$G$5,MATCH(I47,Ext!$A$1:$A$5,0),MATCH(I$7,Ext!$A$2:$E$2,0)),\"invalid entry\")))","v":""},{"$f":"IF(LEN(C47)=0,\"\",IF(LEN(J47)=0,INDEX(Ext!$A$1:$G$5,MATCH(0,Ext!$A$1:$A$5,0),MATCH(J$7,Ext!$A$2:$E$2,0)),IF(AND(J47>=0,J47<3),INDEX(Ext!$A$1:$G$5,MATCH(J47,Ext!$A$1:$A$5,0),MATCH(J$7,Ext!$A$2:$E$2,0)),\"invalid entry\")))","v":""}]
[null,null,null,null,null,null,null,null,null,null,null,{"$f":"IF(LEN(A48)=0,\"\",IF(LEN(E48)=0,\"HVI data needed\",INDEX('Staple Lookup'!$C$3:$C$100,MATCH(TRUE,'Staple Lookup'!$B$3:$B$100>=ROUND(E48,2),0))))","v":""},null,{"$f":"IF(OR(LEN(B48)=0,LEN(C48)=0,LEN(D48)=0),\"\",IF(AND(RIGHT(B48,1)*1=1,C48=8),-2000,IF(L48>=38,AB48,IF(L48<=31,AC48,AE48))))","v":""},{"$f":"IF(LEN(A48)=0,\"\",INDEX(Str!$C$1:$C$20,MATCH(ROUND(F48,1),Str!$A$1:$A$20,1)))","v":""},"","",{"$f":"IF(LEN(A48)=0,\"\",INDEX(Uni!$C$1:$C$20,MATCH(ROUND($G48,1),Uni!$A$1:$A$20,1)))","v":""},null,"",{"$f":"IF(LEN(A48)=0,\"\",IF(OR(LEN(B48)=0,LEN(C48)=0,LEN(D48)=0,LEN(E48)=0,LEN(F48)=0,LEN(G48)=0),\"no HVI data\",IF('Base Values'!$B$6+(SUM($N48:$R48)/100)<0,0,'Base Values'!$B$6+(SUM(N48:R48)/100))))","v":""},null,{"$f":"IF(LEN(A48)=0,\"\",IF(LEN(H48)=0,INDEX(Ext!$A$1:$G$5,MATCH(0,Ext!$A$1:$A$5,0),MATCH(H$7,Ext!$A$2:$E$2,0)),IF(AND(H48>=0,H48<3),INDEX(Ext!$A$1:$G$5,MATCH(H48,Ext!$A$1:$A$5,0),MATCH(H$7,Ext!$A$2:$E$2,0)),\"invalid entry\")))","v":""},{"$f":"IF(LEN(B48)=0,\"\",IF(LEN(I48)=0,INDEX(Ext!$A$1:$G$5,MATCH(0,Ext!$A$1:$A$5,0),MATCH(I$7,Ext!$A$2:$E$2,0)),IF(AND(I48>=0,I48<3),INDEX(Ext!$A$1:$G$5,MATCH(I48,Ext!$A$1:$A$5,0),MATCH(I$7,Ext!$A$2:$E$2,0)),\"invalid entry\")))","v":""},{"$f":"IF(LEN(C48)=0,\"\",IF(LEN(J48)=0,INDEX(Ext!$A$1:$G$5,MATCH(0,Ext!$A$1:$A$5,0),MATCH(J$7,Ext!$A$2:$E$2,0)),IF(AND(J48>=0,J48<3),INDEX(Ext!$A$1:$G$5,MATCH(J48,Ext!$A$1:$A$5,0),MATCH(J$7,Ext!$A$2:$E$2,0)),\"invalid entry\")))","v":""}]
[null,null,null,null,null,null,null,null,null,null,null,{"$f":"IF(LEN(A49)=0,\"\",IF(LEN(E49)=0,\"HVI data needed\",INDEX('Staple Lookup'!$C$3:$C$100,MATCH(TRUE,'Staple Lookup'!$B$3:$B$100>=ROUND(E49,2),0))))","v":""},null,{"$f":"IF(OR(LEN(B49)=0,LEN(C49)=0,LEN(D49)=0),\"\",IF(AND(RIGHT(B49,1)*1=1,C49=8),-2000,IF(L49>=38,AB49,IF(L49<=31,AC49,AE49))))","v":""},{"$f":"IF(LEN(A49)=0,\"\",INDEX(Str!$C$1:$C$20,MATCH(ROUND(F49,1),Str!$A$1:$A$20,1)))","v":""},"","",{"$f":"IF(LEN(A49)=0,\"\",INDEX(Uni!$C$1:$C$20,MATCH(ROUND($G49,1),Uni!$A$1:$A$20,1)))","v":""},null,"",{"$f":"IF(LEN(A49)=0,\"\",IF(OR(LEN(B49)=0,LEN(C49)=0,LEN(D49)=0,LEN(E49)=0,LEN(F49)=0,LEN(G49)=0),\"no HVI data\",IF('Base Values'!$B$6+(SUM($N49:$R49)/100)<0,0,'Base Values'!$B$6+(SUM(N49:R49)/100))))","v":""},null,{"$f":"IF(LEN(A49)=0,\"\",IF(LEN(H49)=0,INDEX(Ext!$A$1:$G$5,MATCH(0,Ext!$A$1:$A$5,0),MATCH(H$7,Ext!$A$2:$E$2,0)),IF(AND(H49>=0,H49<3),INDEX(Ext!$A$1:$G$5,MATCH(H49,Ext!$A$1:$A$5,0),MATCH(H$7,Ext!$A$2:$E$2,0)),\"invalid entry\")))","v":""},{"$f":"IF(LEN(B49)=0,\"\",IF(LEN(I49)=0,INDEX(Ext!$A$1:$G$5,MATCH(0,Ext!$A$1:$A$5,0),MATCH(I$7,Ext!$A$2:$E$2,0)),IF(AND(I49>=0,I49<3),INDEX(Ext!$A$1:$G$5,MATCH(I49,Ext!$A$1:$A$5,0),MATCH(I$7,Ext!$A$2:$E$2,0)),\"invalid entry\")))","v":""},{"$f":"IF(LEN(C49)=0,\"\",IF(LEN(J49)=0,INDEX(Ext!$A$1:$G$5,MATCH(0,Ext!$A$1:$A$5,0),MATCH(J$7,Ext!$A$2:$E$2,0)),IF(AND(J49>=0,J49<3),INDEX(Ext!$A$1:$G$5,MATCH(J49,Ext!$A$1:$A$5,0),MATCH(J$7,Ext!$A$2:$E$2,0)),\"invalid entry\")))","v":""}]

{"sheet":"Yield & Return","index":4,"n_rows":7,"n_cols":10,"rows_kept":7,"cut":false,"hidden":false,"merged":[]}
["Yield & Return"]
["Required lint yield & turnout data to be entered on"]
["HVI & Yield Entry sheet (columns N:O)"]
[null,null,null,"Seed Yield","Lint Value","Seed Value","Gross Return","Picking/Stripping","Ginning Cost","Net Return"]
[null,null,null,"Equals Column B x","Equals Column B x","Equals Column D x","Equals Column E +","& Moduling Costs","Equals Column B x","Equals Column B -"]
[null,"Lint Yield","Turnout","Base Values B14","Loan Value","Base Values B8","Column F","=B/C * Base Values B10","Base Values B12","Columns H & I"]
["Sample Name/Code","(lbs acre)","(%)","(lbs acre)","($/acre)","($/acre)","($/acre)","($/acre)","($/acre)","($/acre)"]

{"sheet":"Mic","index":5,"n_rows":12,"n_cols":3,"rows_kept":12,"cut":false,"hidden":true,"merged":[]}
["Micronaire"]
["Lower","Upper","Points"]
[0,2.4,-1850]
[2.5,2.6,-1345]
[2.7,2.9,-920]
[3,3.2,-635]
[3.3,3.4,-470]
[3.5,3.6,0]
[3.7,4.2,10]
[4.3,4.9000000000000004,0]
[5,5.2,-250]
[5.3,20,-400]

{"sheet":"Str","index":6,"n_rows":18,"n_cols":3,"rows_kept":18,"cut":false,"hidden":true,"merged":[]}
["Strength"]
["Lower","Upper","Points"]
[0,17.899999999999999,-700]
[18,18.899999999999999,-630]
[19,19.899999999999999,-630]
[20,20.9,-620]
[21,21.9,-610]
[22,22.9,-575]
[23,23.9,-560]
[24,24.9,-545]
[25,25.9,-495]
[26,26.9,0]
[27,27.9,0]
[28,28.9,0]
[29,29.9,5]
[30,30.9,20]
[31,32.9,35]
[33,200,45]

{"sheet":"Staple Lookup","index":7,"n_rows":21,"n_cols":3,"rows_kept":21,"cut":false,"hidden":true,"merged":[]}
[null,"Decimal"]
["Floor","Ceiling","Staple"]
[0,0.79,24]
[{"$f":"B3+0.01","v":0.8},0.85,26]
[{"$f":"B4+0.01","v":0.86},0.89,28]
[0.9,0.92,29]
[0.93,0.95,30]
[0.96,0.98,31]
[0.99,1.01,32]
[1.02,1.04,33]
[1.05,1.07,34]
[1.08,1.1000000000000001,35]
[1.1100000000000001,1.1299999999999999,36]
[1.1399999999999999,1.17,37]
[1.18,1.2,38]
[1.21,1.23,39]
[1.24,1.26,40]
[1.27,1.29,41]
[1.3,1.32,42]
[{"$f":"B19+0.01","v":1.33},1.35,43]
[1.36,9999,44]

{"sheet":"G&S","index":8,"n_rows":211,"n_cols":13,"rows_kept":211,"cut":false,"hidden":true,"merged":[]}
[null,null,null,null,null,null,null,null,null,null,null,null,"Note: Data have to be manually copied over from the pdf (then transposed)"]
[null,null,null,null,null,null,null,null,null,null,null,null,"New section created to break out color grades 11 and 21"]
[null,"Color","Leaf","26-31",32,33,34,35,36,37,"38+",null,"Gaps in coverage are assigned -4000, handled by formulas."]
["White",11,1,-390,-250,-80,150,295,445,515,520]
["White",11,2,-390,-250,-80,150,295,445,515,520]
["White",11,3,-475,-275,-100,130,250,410,470,475]
["White",11,4,-505,-300,-190,65,165,300,340,340]
["White",11,5,-575,-450,-325,-135,-5,60,95,95]
["White",11,6,-710,-550,-470,-345,-290,-255,-240,-240]
["White",11,7,-785,-645,-575,-450,-390,-355,-340,-340]
["White",11,8,-2000,-2000,-2000,-2000,-2000,-2000,-2000,-2000]
["White",21,1,-390,-250,-80,150,295,445,515,520]
["White",21,2,-390,-250,-80,150,295,445,515,520]
["White",21,3,-475,-275,-100,130,250,410,470,475]
["White",21,4,-505,-300,-190,65,165,300,340,340]
["White",21,5,-575,-450,-325,-135,-5,60,95,95]
["White",21,6,-710,-550,-470,-345,-290,-255,-240,-240]
["White",21,7,-785,-645,-575,-450,-390,-355,-340,-340]
["White",21,8,-2000,-2000,-2000,-2000,-2000,-2000,-2000,-2000]
["White",31,1,-520,-280,-130,90,245,400,460,465]
["White",31,2,-520,-280,-130,90,245,400,460,465]
["White",31,3,-580,-295,-145,80,225,375,425,435]
["White",31,4,-630,-335,-240,55,145,245,300,300]
["White",31,5,-675,-490,-365,-180,-60,-5,30,30]
["White",31,6,-785,-585,-490,-360,-330,-300,-295,-295]
["White",31,7,-880,-680,-595,-460,-425,-395,-390,-390]
["White",31,8,-2000,-2000,-2000,-2000,-2000,-2000,-2000,-2000]
["White",41,1,-685,-380,-240,30,100,190,205,230]
["White",41,2,-685,-380,-240,30,100,190,205,230]
["White",41,3,-685,-380,-240,30,100,190,205,230]
["White",41,4,-730,-395,-315,0,50,125,150,160]
["White",41,5,-830,-600,-500,-290,-170,-105,-95,-90]
["White",41,6,-915,-690,-605,-480,-425,-370,-365,-365]
["White",41,7,-1030,-800,-740,-595,-535,-500,-500,-500]
["White",41,8,-2000,-2000,-2000,-2000,-2000,-2000,-2000,-2000]
["White",51,1,-855,-660,-500,-325,-260,-230,-230,-230]
["White",51,2,-855,-660,-500,-325,-260,-230,-230,-230]
["White",51,3,-855,-660,-500,-325,-260,-230,-230,-230]
["White",51,4,-855,-660,-500,-325,-260,-230,-230,-230]
["White",51,5,-875,-765,-685,-510,-440,-405,-400,-395]
["White",51,6,-1010,-855,-785,-620,-580,-530,-525,-525]
["White",51,7,-1110,-935,-885,-730,-690,-645,-640,-640]
["White",51,8,-2000,-2000,-2000,-2000,-2000,-2000,-2000,-2000]
["White",61,1,-960,-800,-735,-555,-495,-455,-455,-455]
["White",61,2,-960,-800,-735,-555,-495,-455,-455,-455]
["White",61,3,-960,-800,-735,-555,-495,-455,-455,-455]
["White",61,4,-960,-800,-735,-555,-495,-455,-455,-455]
["White",61,5,-960,-800,-735,-555,-495,-455,-455,-455]
["White",61,6,-1100,-920,-885,-725,-680,-635,-635,-635]
["White",61,7,-1200,-1045,-980,-820,-765,-725,-725,-725]
["White",61,8,-2000,-2000,-2000,-2000,-2000,-2000,-2000,-2000]
["White",71,1,-1160,-1095,-1030,-885,-845,-810,-810,-810]
["White",71,2,-1160,-1095,-1030,-885,-845,-810,-810,-810]
["White",71,3,-1160,-1095,-1030,-885,-845,-810,-810,-810]
["White",71,4,-1160,-1095,-1030,-885,-845,-810,-810,-810]
["White",71,5,-1160,-1095,-1030,-885,-845,-810,-810,-810]
["White",71,6,-1160,-1095,-1030,-885,-845,-810,-810,-810]
["White",71,7,-1245,-1130,-1075,-915,-895,-860,-860,-860]
["White",71,8,-2000,-2000,-2000,-2000,-2000,-2000,-2000,-2000]
["White",81,1,-4000,-4000,-4000,-4000,-4000,-4000,-4000,-4000]
["White",81,2,-4000,-4000,-4000,-4000,-4000,-4000,-4000,-4000]
["White",81,3,-4000,-4000,-4000,-4000,-4000,-4000,-4000,-4000]
["White",81,4,-4000,-4000,-4000,-4000,-4000,-4000,-4000,-4000]
["White",81,5,-4000,-4000,-4000,-4000,-4000,-4000,-4000,-4000]
["White",81,6,-4000,-4000,-4000,-4000,-4000,-4000,-4000,-4000]
["White",81,7,-4000,-4000,-4000,-4000,-4000,-4000,-4000,-4000]
["White",81,8,-4000,-4000,-4000,-4000,-4000,-4000,-4000,-4000]
["Light Spotted",12,1,-655,-345,-175,55,170,300,350,360]
["Light Spotted",12,2,-655,-345,-175,55,170,300,350,360]
["Light Spotted",12,3,-680,-360,-185,50,125,260,290,300]
["Light Spotted",12,4,-725,-370,-270,-30,55,205,235,240]
["Light Spotted",12,5,-790,-585,-485,-260,-125,-45,-20,-20]
["Light Spotted",12,6,-905,-700,-620,-470,-405,-345,-315,-315]
["Light Spotted",12,7,-1025,-785,-730,-575,-530,-465,-440,-440]
["Light Spotted",12,8,-4000,-4000,-4000,-4000,-4000,-4000,-4000,-4000]
["Light Spotted",22,1,-645,-340,-165,55,170,295,340,350]
["Light Spotted",22,2,-645,-340,-165,55,170,295,340,350]
["Light Spotted",22,3,-670,-350,-175,45,130,255,290,300]
["Light Spotted",22,4,-715,-360,-260,-25,60,200,230,240]
["Light Spotted",22,5,-775,-575,-470,-255,-120,-50,-25,-25]
["Light Spotted",22,6,-885,-690,-605,-470,-405,-350,-320,-320]
["Light Spotted",22,7,-1010,-775,-715,-575,-530,-470,-445,-445]
["Light Spotted",22,8,-4000,-4000,-4000,-4000,-4000,-4000,-4000,-4000]
["Light Spotted",32,1,-825,-460,-295,-90,5,45,70,75]
["Light Spotted",32,2,-825,-460,-295,-90,5,45,70,75]
["Light Spotted",32,3,-870,-485,-315,-115,-20,20,40,40]
["Light Spotted",32,4,-920,-540,-370,-200,-95,-55,-40,-40]
["Light Spotted",32,5,-1035,-740,-590,-395,-325,-280,-265,-265]
["Light Spotted",32,6,-1130,-805,-730,-560,-505,-475,-455,-455]
["Light Spotted",32,7,-1245,-910,-830,-670,-610,-590,-570,-570]
["Light Spotted",32,8,-4000,-4000,-4000,-4000,-4000,-4000,-4000,-4000]
["Light Spotted",42,1,-935,-625,-485,-275,-195,-155,-140,-140]
["Light Spotted",42,2,-935,-625,-485,-275,-195,-155,-140,-140]
["Light Spotted",42,3,-935,-625,-485,-275,-195,-155,-140,-140]
["Light Spotted",42,4,-985,-660,-510,-320,-260,-215,-200,-200]
["Light Spotted",42,5,-1105,-825,-690,-455,-370,-340,-320,-320]
["Light Spotted",42,6,-1310,-900,-785,-615,-570,-535,-515,-515]
["Light Spotted",42,7,-1355,-985,-900,-740,-675,-645,-630,-630]
["Light Spotted",42,8,-4000,-4000,-4000,-4000,-4000,-4000,-4000,-4000]
["Light Spotted",52,1,-1150,-835,-720,-565,-500,-475,-460,-460]
["Light Spotted",52,2,-1150,-835,-720,-565,-500,-475,-460,-460]
["Light Spotted",52,3,-1150,-835,-720,-565,-500,-475,-460,-460]
["Light Spotted",52,4,-1150,-835,-720,-565,-500,-475,-460,-460]
["Light Spotted",52,5,-1225,-905,-840,-655,-595,-580,-560,-560]
["Light Spotted",52,6,-1435,-1035,-970,-805,-760,-740,-720,-720]
["Light Spotted",52,7,-1520,-1140,-1080,-910,-865,-840,-820,-820]
["Light Spotted",52,8,-4000,-4000,-4000,-4000,-4000,-4000,-4000,-4000]
["Light Spotted",62,1,-1275,-1025,-950,-790,-755,-735,-715,-715]
["Light Spotted",62,2,-1275,-1025,-950,-790,-755,-735,-715,-715]
["Light Spotted",62,3,-1275,-1025,-950,-790,-755,-735,-715,-715]
["Light Spotted",62,4,-1275,-1025,-950,-790,-755,-735,-715,-715]
["Light Spotted",62,5,-1275,-1025,-950,-790,-755,-735,-715,-715]
["Light Spotted",62,6,-1470,-1185,-1115,-940,-910,-890,-870,-870]
["Light Spotted",62,7,-4000,-4000,-4000,-4000,-4000,-4000,-4000,-4000]
["Light Spotted",62,8,-4000,-4000,-4000,-4000,-4000,-4000,-4000,-4000]
["Spotted",13,1,-1115,-910,-845,-470,-380,-325,-255,-255]
["Spotted",13,2,-1115,-910,-845,-470,-380,-325,-255,-255]
["Spotted",13,3,-1155,-935,-870,-495,-405,-350,-280,-280]
["Spotted",13,4,-1190,-1010,-935,-545,-450,-400,-330,-330]
["Spotted",13,5,-1295,-1095,-1040,-670,-575,-510,-440,-440]
["Spotted",13,6,-1405,-1170,-1110,-750,-660,-595,-525,-525]
["Spotted",13,7,-1490,-1270,-1200,-830,-770,-700,-635,-635]
["Spotted",13,8,-4000,-4000,-4000,-4000,-4000,-4000,-4000,-4000]
["Spotted",23,1,-1220,-980,-890,-510,-445,-390,-325,-325]
["Spotted",23,2,-1220,-980,-890,-510,-445,-390,-325,-325]
["Spotted",23,3,-1220,-980,-890,-520,-450,-400,-325,-325]
["Spotted",23,4,-1295,-1055,-975,-585,-520,-450,-375,-375]
["Spotted",23,5,-1430,-1155,-1085,-725,-645,-560,-485,-485]
["Spotted",23,6,-1490,-1230,-1190,-805,-755,-670,-595,-595]
["Spotted",23,7,-1570,-1335,-1260,-930,-865,-780,-705,-705]
["Spotted",23,8,-4000,-4000,-4000,-4000,-4000,-4000,-4000,-4000]
["Spotted",33,1,-1220,-980,-890,-510,-445,-390,-325,-325]
["Spotted",33,2,-1220,-980,-890,-510,-445,-390,-325,-325]
["Spotted",33,3,-1220,-980,-890,-520,-450,-400,-325,-325]
["Spotted",33,4,-1295,-1055,-975,-585,-520,-450,-375,-375]
["Spotted",33,5,-1430,-1155,-1085,-725,-645,-560,-485,-485]
["Spotted",33,6,-1490,-1230,-1190,-805,-755,-670,-595,-595]
["Spotted",33,7,-1570,-1335,-1260,-930,-865,-780,-705,-705]
["Spotted",33,8,-4000,-4000,-4000,-4000,-4000,-4000,-4000,-4000]
["Spotted",43,1,-1270,-990,-900,-635,-585,-550,-525,-525]
["Spotted",43,2,-1270,-990,-900,-635,-585,-550,-525,-525]
["Spotted",43,3,-1270,-990,-900,-635,-585,-550,-525,-525]
["Spotted",43,4,-1345,-1065,-985,-680,-615,-575,-545,-545]
["Spotted",43,5,-1455,-1165,-1095,-795,-745,-715,-690,-690]
["Spotted",43,6,-1540,-1240,-1200,-875,-840,-815,-785,-785]
["Spotted",43,7,-1620,-1345,-1270,-975,-945,-915,-890,-890]
["Spotted",43,8,-4000,-4000,-4000,-4000,-4000,-4000,-4000,-4000]
["Spotted",53,1,-1425,-1105,-1000,-815,-775,-755,-730,-730]
["Spotted",53,2,-1425,-1105,-1000,-815,-775,-755,-730,-730]
["Spotted",53,3,-1425,-1105,-1000,-815,-775,-755,-730,-730]
["Spotted",53,4,-1425,-1105,-1000,-815,-775,-755,-730,-730]
["Spotted",53,5,-1510,-1185,-1115,-915,-895,-875,-850,-850]
["Spotted",53,6,-1625,-1280,-1210,-1000,-980,-960,-935,-935]
["Spotted",53,7,-1710,-1355,-1305,-1110,-1090,-1065,-1040,-1040]
["Spotted",53,8,-4000,-4000,-4000,-4000,-4000,-4000,-4000,-4000]
["Spotted",63,1,-1645,-1270,-1195,-990,-955,-935,-910,-910]
["Spotted",63,2,-1645,-1270,-1195,-990,-955,-935,-910,-910]
["Spotted",63,3,-1645,-1270,-1195,-990,-955,-935,-910,-910]
["Spotted",63,4,-1645,-1270,-1195,-990,-955,-935,-910,-910]
["Spotted",63,5,-1645,-1270,-1195,-990,-955,-935,-910,-910]
["Spotted",63,6,-1710,-1360,-1280,-1085,-1055,-1035,-1010,-1010]
["Spotted",63,7,-4000,-4000,-4000,-4000,-4000,-4000,-4000,-4000]
["Spotted",63,8,-4000,-4000,-4000,-4000,-4000,-4000,-4000,-4000]
["Tinged",24,1,-1330,-1140,-1060,-670,-645,-585,-530,-530]
["Tinged",24,2,-1330,-1140,-1060,-670,-645,-585,-530,-530]
["Tinged",24,3,-1330,-1140,-1060,-670,-645,-585,-530,-530]
["Tinged",24,4,-1455,-1265,-1160,-770,-745,-685,-630,-630]
["Tinged",24,5,-1540,-1345,-1270,-895,-870,-810,-755,-755]
["Tinged",24,6,-1700,-1505,-1430,-1085,-1060,-1005,-945,-945]
["Tinged",24,7,-4000,-4000,-4000,-4000,-4000,-4000,-4000,-4000]
["Tinged",24,8,-4000,-4000,-4000,-4000,-4000,-4000,-4000,-4000]
["Tinged",34,1,-1345,-1155,-1075,-685,-660,-600,-545,-545]
["Tinged",34,2,-1345,-1155,-1075,-685,-660,-600,-545,-545]
["Tinged",34,3,-1345,-1155,-1075,-685,-660,-600,-545,-545]
["Tinged",34,4,-1470,-1280,-1175,-785,-760,-700,-645,-645]
["Tinged",34,5,-1555,-1360,-1285,-910,-885,-825,-770,-770]
["Tinged",34,6,-1715,-1520,-1445,-1100,-1075,-1020,-960,-960]
["Tinged",34,7,-4000,-4000,-4000,-4000,-4000,-4000,-4000,-4000]
["Tinged",34,8,-4000,-4000,-4000,-4000,-4000,-4000,-4000,-4000]
["Tinged",44,1,-1460,-1270,-1190,-795,-770,-710,-660,-660]
["Tinged",44,2,-1460,-1270,-1190,-795,-770,-710,-660,-660]
["Tinged",44,3,-1460,-1270,-1190,-795,-770,-710,-660,-660]
["Tinged",44,4,-1535,-1370,-1240,-845,-820,-760,-710,-710]
["Tinged",44,5,-1610,-1430,-1325,-945,-920,-860,-810,-810]
["Tinged",44,6,-1770,-1580,-1500,-1155,-1130,-1070,-1015,-1015]
["Tinged",44,7,-4000,-4000,-4000,-4000,-4000,-4000,-4000,-4000]
["Tinged",44,8,-4000,-4000,-4000,-4000,-4000,-4000,-4000,-4000]
["Tinged",54,1,-1560,-1395,-1315,-905,-885,-830,-785,-785]
["Tinged",54,2,-1560,-1395,-1315,-905,-885,-830,-785,-785]
["Tinged",54,3,-1560,-1395,-1315,-905,-885,-830,-785,-785]
["Tinged",54,4,-1560,-1395,-1315,-905,-885,-830,-785,-785]
["Tinged",54,5,-1645,-1460,-1360,-1020,-995,-935,-890,-890]
["Tinged",54,6,-4000,-4000,-4000,-4000,-4000,-4000,-4000,-4000]
["Tinged",54,7,-4000,-4000,-4000,-4000,-4000,-4000,-4000,-4000]
["Tinged",54,8,-4000,-4000,-4000,-4000,-4000,-4000,-4000,-4000]
["Yellow Stained",25,1,-1590,-1400,-1320,-930,-905,-845,-790,-790]
["Yellow Stained",25,2,-1590,-1400,-1320,-930,-905,-845,-790,-790]
["Yellow Stained",25,3,-1590,-1400,-1320,-930,-905,-845,-790,-790]
["Yellow Stained",25,4,-1715,-1525,-1420,-1030,-1005,-945,-890,-890]
["Yellow Stained",25,5,-4000,-4000,-4000,-4000,-4000,-4000,-4000,-4000]
["Yellow Stained",25,6,-4000,-4000,-4000,-4000,-4000,-4000,-4000,-4000]
["Yellow Stained",25,7,-4000,-4000,-4000,-4000,-4000,-4000,-4000,-4000]
["Yellow Stained",25,8,-4000,-4000,-4000,-4000,-4000,-4000,-4000,-4000]
["Yellow Stained",35,1,-1605,-1415,-1335,-945,-920,-860,-805,-805]
["Yellow Stained",35,2,-1605,-1415,-1335,-945,-920,-860,-805,-805]
["Yellow Stained",35,3,-1605,-1415,-1335,-945,-920,-860,-805,-805]
["Yellow Stained",35,4,-4000,-4000,-4000,-4000,-4000,-4000,-4000,-4000]
["Yellow Stained",35,5,-4000,-4000,-4000,-4000,-4000,-4000,-4000,-4000]
["Yellow Stained",35,6,-4000,-4000,-4000,-4000,-4000,-4000,-4000,-4000]
["Yellow Stained",35,7,-4000,-4000,-4000,-4000,-4000,-4000,-4000,-4000]
["Yellow Stained",35,8,-4000,-4000,-4000,-4000,-4000,-4000,-4000,-4000]

{"sheet":"Uni","index":9,"n_rows":12,"n_cols":3,"rows_kept":12,"cut":false,"hidden":true,"merged":[]}
["Length Uniformity"]
["Lower","Upper","Points"]
[0,77.900000000000006,-60]
[78,78.900000000000006,-55]
[79,79.900000000000006,-45]
[80,80.900000000000006,0]
[81,81.900000000000006,0]
[82,82.9,5]
[83,83.9,10]
[84,84.9,15]
[85,85.9,20]
[86,200,25]

{"sheet":"Ext","index":10,"n_rows":5,"n_cols":5,"rows_kept":5,"cut":false,"hidden":true,"merged":[]}
["Extraneous Matter"]
[null,"TX/NM/OK/KS","Prep","Other","Plastic"]
[0,0,0,0,0]
[1,-435,-140,-515,-4000]
[2,-570,-695,-680,-4000]